BEGIN:VCALENDAR
VERSION:2.0
PRODID:-//ГБУЗ ЯО &quot;Медицинский информационно-аналитический центр&quot; - ECPv6.15.17.1//NONSGML v1.0//EN
CALSCALE:GREGORIAN
METHOD:PUBLISH
X-ORIGINAL-URL:https://miac.zdrav76.ru
X-WR-CALDESC:Мероприятия для ГБУЗ ЯО &quot;Медицинский информационно-аналитический центр&quot;
REFRESH-INTERVAL;VALUE=DURATION:PT1H
X-Robots-Tag:noindex
X-PUBLISHED-TTL:PT1H
BEGIN:VTIMEZONE
TZID:Europe/Moscow
BEGIN:STANDARD
TZOFFSETFROM:+0300
TZOFFSETTO:+0300
TZNAME:MSK
DTSTART:20210101T000000
END:STANDARD
END:VTIMEZONE
BEGIN:VEVENT
DTSTART;TZID=Europe/Moscow:20260318T162000
DTEND;TZID=Europe/Moscow:20260318T163000
DTSTAMP:20260424T011231
CREATED:20260319T065756Z
LAST-MODIFIED:20260319T065756Z
UID:37776-1773850800-1773851400@miac.zdrav76.ru
SUMMARY:Организационные вопросы
DESCRIPTION:
URL:https://miac.zdrav76.ru/event/%d0%9e%d1%80%d0%b3%d0%b0%d0%bd%d0%b8%d0%b7%d0%b0%d1%86%d0%b8%d0%be%d0%bd%d0%bd%d1%8b%d0%b5-%d0%b2%d0%be%d0%bf%d1%80%d0%be%d1%81%d1%8b-2/
LOCATION:В режиме ВКС
CATEGORIES:ДЗиФ
END:VEVENT
BEGIN:VEVENT
DTSTART;TZID=Europe/Moscow:20241022T093000
DTEND;TZID=Europe/Moscow:20241022T113000
DTSTAMP:20260424T011231
CREATED:20241021T125301Z
LAST-MODIFIED:20241021T125301Z
UID:30113-1729589400-1729596600@miac.zdrav76.ru
SUMMARY:Льготное лекарственное обеспечение
DESCRIPTION:✅  Тема:\n1. Подготовка к приезду НМИЦ эндокринологии\n2. ЛЛО общие вопросы\n3. ⁠Исполнение судебных решений и закупка по ВК (итоги 2024\, план 2025)\n✅ Перед началом ВКС проверить звук и работу камер.\n‼️ ‼️ ‼️ ПРИСУТСТВИЕ ГЛАВНЫХ ВРАЧЕЙ ОБЯЗАТЕЛЬНО\n‼️ ‼️ ‼️ МО не подключающие камеры будет зафиксированы как не явившиеся на ВКС.\n✅ Техническая поддержка: (4852)20-54-09\, support@zdrav.yar.ru.
URL:https://miac.zdrav76.ru/event/%d0%9b%d1%8c%d0%b3%d0%be%d1%82%d0%bd%d0%be%d0%b5-%d0%bb%d0%b5%d0%ba%d0%b0%d1%80%d1%81%d1%82%d0%b2%d0%b5%d0%bd%d0%bd%d0%be%d0%b5-%d0%be%d0%b1%d0%b5%d1%81%d0%bf%d0%b5%d1%87%d0%b5%d0%bd%d0%b8%d0%b5-2/
LOCATION:В режиме ВКС
CATEGORIES:ДЗиФ
END:VEVENT
BEGIN:VEVENT
DTSTART;TZID=Europe/Moscow:20240724T083000
DTEND;TZID=Europe/Moscow:20240724T100000
DTSTAMP:20260424T011231
CREATED:20240724T050730Z
LAST-MODIFIED:20240724T050730Z
UID:28550-1721809800-1721815200@miac.zdrav76.ru
SUMMARY:ОкиДоки Внедрение ЦОЗ+МО
DESCRIPTION:
URL:https://miac.zdrav76.ru/event/%d0%9e%d0%ba%d0%b8%d0%94%d0%be%d0%ba%d0%b8-%d0%92%d0%bd%d0%b5%d0%b4%d1%80%d0%b5%d0%bd%d0%b8%d0%b5-%d0%a6%d0%9e%d0%97%d0%9c%d0%9e/
LOCATION:В режиме ВКС
CATEGORIES:ДЗиФ
END:VEVENT
BEGIN:VEVENT
DTSTART;TZID=Europe/Moscow:20240419T134500
DTEND;TZID=Europe/Moscow:20240419T150000
DTSTAMP:20260424T011231
CREATED:20240419T103216Z
LAST-MODIFIED:20240419T103216Z
UID:26602-1713534300-1713538800@miac.zdrav76.ru
SUMMARY:Подготовка отчетности
DESCRIPTION:
URL:https://miac.zdrav76.ru/event/%d0%bf%d0%be%d0%b4%d0%b3%d0%be%d1%82%d0%be%d0%b2%d0%ba%d0%b0-%d0%be%d1%82%d1%87%d0%b5%d1%82%d0%bd%d0%be%d1%81%d1%82%d0%b8/
LOCATION:В режиме ВКС
CATEGORIES:ДЗиФ
END:VEVENT
BEGIN:VEVENT
DTSTART;TZID=Europe/Moscow:20231207T100000
DTEND;TZID=Europe/Moscow:20231207T113000
DTSTAMP:20260424T011231
CREATED:20231206T073126Z
LAST-MODIFIED:20231206T073126Z
UID:25705-1701943200-1701948600@miac.zdrav76.ru
SUMMARY:ЛЛО. Орг вопросы
DESCRIPTION:
URL:https://miac.zdrav76.ru/event/%d0%bb%d0%bb%d0%be-%d0%be%d1%80%d0%b3-%d0%b2%d0%be%d0%bf%d1%80%d0%be%d1%81%d1%8b-5/
LOCATION:В режиме ВКС
CATEGORIES:ДЗиФ
END:VEVENT
BEGIN:VEVENT
DTSTART;TZID=Europe/Moscow:20231012T130000
DTEND;TZID=Europe/Moscow:20231012T150000
DTSTAMP:20260424T011231
CREATED:20231011T052329Z
LAST-MODIFIED:20231011T052329Z
UID:25513-1697115600-1697122800@miac.zdrav76.ru
SUMMARY:ИПРА. Обучение
DESCRIPTION:
URL:https://miac.zdrav76.ru/event/%d0%b8%d0%bf%d1%80%d0%b0-%d0%be%d0%b1%d1%83%d1%87%d0%b5%d0%bd%d0%b8%d0%b5/
LOCATION:В режиме ВКС
CATEGORIES:ДЗиФ
END:VEVENT
BEGIN:VEVENT
DTSTART;TZID=Europe/Moscow:20231002T140000
DTEND;TZID=Europe/Moscow:20231002T160000
DTSTAMP:20260424T011231
CREATED:20231002T105845Z
LAST-MODIFIED:20231002T105845Z
UID:25470-1696255200-1696262400@miac.zdrav76.ru
SUMMARY:Составление периодической и годовой отчётности по форме √30 раздел "Штаты медицинской организации" и иные вопросы по кадровой отчётности
DESCRIPTION:
URL:https://miac.zdrav76.ru/event/%d1%81%d0%be%d1%81%d1%82%d0%b0%d0%b2%d0%bb%d0%b5%d0%bd%d0%b8%d0%b5-%d0%bf%d0%b5%d1%80%d0%b8%d0%be%d0%b4%d0%b8%d1%87%d0%b5%d1%81%d0%ba%d0%be%d0%b9-%d0%b8-%d0%b3%d0%be%d0%b4%d0%be%d0%b2%d0%be%d0%b9/
CATEGORIES:ДЗиФ
END:VEVENT
BEGIN:VEVENT
DTSTART;TZID=Europe/Moscow:20230810T143000
DTEND;TZID=Europe/Moscow:20230810T163000
DTSTAMP:20260424T011231
CREATED:20230810T064703Z
LAST-MODIFIED:20230829T072747Z
UID:25351-1691677800-1691685000@miac.zdrav76.ru
SUMMARY:Запись на прием\, Телемедицина\, Электронный документооборот\, Работа ФАП в ЕГИСЗ...
DESCRIPTION:10 августа 2023\, СЕГОДНЯ \, в 14-30 🔺⚡ состоится совещание Корзиной Н.С. с главными врачами и ответственными за цифровизацию и внедрение РС ЕГИСЗ ЯО\n✅ Тема:\n1. Запись на прием\n2. Телемедицина\n3. Электронный документооборот\n4. Работа ФАП в ЕГИСЗ\n5. Другие вопросы цифровизации
URL:https://miac.zdrav76.ru/event/25351/
LOCATION:В режиме ВКС
CATEGORIES:ДЗиФ
END:VEVENT
BEGIN:VEVENT
DTSTART;TZID=Europe/Moscow:20230712T110000
DTEND;TZID=Europe/Moscow:20230712T130000
DTSTAMP:20260424T011231
CREATED:20230711T131242Z
LAST-MODIFIED:20230713T050822Z
UID:25310-1689159600-1689166800@miac.zdrav76.ru
SUMMARY:ЦТ. Организационные вопросы
DESCRIPTION:
URL:https://miac.zdrav76.ru/event/%d1%88%d0%bc%d0%b4-%d0%bd%d0%b5%d0%b9%d1%80%d0%be%d1%85%d0%b8%d1%80%d1%83%d1%80%d0%b3%d0%b8%d1%8f-2/
LOCATION:В режиме ВКС
CATEGORIES:ДЗиФ
END:VEVENT
BEGIN:VEVENT
DTSTART;TZID=Europe/Moscow:20230710T140000
DTEND;TZID=Europe/Moscow:20230710T170000
DTSTAMP:20260424T011231
CREATED:20230707T122344Z
LAST-MODIFIED:20230707T122344Z
UID:25300-1688997600-1689008400@miac.zdrav76.ru
SUMMARY:ИПРА\, Телемедицина\, Регистры\, Аналитика
DESCRIPTION:
URL:https://miac.zdrav76.ru/event/%d0%b8%d0%bf%d1%80%d0%b0-%d1%82%d0%b5%d0%bb%d0%b5%d0%bc%d0%b5%d0%b4%d0%b8%d1%86%d0%b8%d0%bd%d0%b0-%d1%80%d0%b5%d0%b3%d0%b8%d1%81%d1%82%d1%80%d1%8b-%d0%b0%d0%bd%d0%b0%d0%bb%d0%b8%d1%82%d0%b8%d0%ba/
LOCATION:В режиме ВКС
CATEGORIES:ДЗиФ
END:VEVENT
BEGIN:VEVENT
DTSTART;TZID=Europe/Moscow:20230707T150000
DTEND;TZID=Europe/Moscow:20230707T170000
DTSTAMP:20260424T011231
CREATED:20230707T121416Z
LAST-MODIFIED:20230707T121416Z
UID:25298-1688742000-1688749200@miac.zdrav76.ru
SUMMARY:Дашборды. ЛЛО
DESCRIPTION:
URL:https://miac.zdrav76.ru/event/%d0%b4%d0%b0%d1%88%d0%b1%d0%be%d1%80%d0%b4%d1%8b-%d0%bb%d0%bb%d0%be/
LOCATION:В режиме ВКС
CATEGORIES:ДЗиФ
END:VEVENT
BEGIN:VEVENT
DTSTART;TZID=Europe/Moscow:20230705T090000
DTEND;TZID=Europe/Moscow:20230705T120000
DTSTAMP:20260424T011231
CREATED:20230705T062742Z
LAST-MODIFIED:20230705T062742Z
UID:25296-1688547600-1688558400@miac.zdrav76.ru
SUMMARY:ЦТ. Организационные вопросы
DESCRIPTION:
URL:https://miac.zdrav76.ru/event/%d1%86%d1%82-%d0%be%d1%80%d0%b3%d0%b0%d0%bd%d0%b8%d0%b7%d0%b0%d1%86%d0%b8%d0%be%d0%bd%d0%bd%d1%8b%d0%b5-%d0%b2%d0%be%d0%bf%d1%80%d0%be%d1%81%d1%8b-13/
LOCATION:В режиме ВКС
CATEGORIES:ДЗиФ
END:VEVENT
BEGIN:VEVENT
DTSTART;TZID=Europe/Moscow:20230629T094000
DTEND;TZID=Europe/Moscow:20230629T103000
DTSTAMP:20260424T011231
CREATED:20230629T065739Z
LAST-MODIFIED:20230629T075719Z
UID:25275-1688031600-1688034600@miac.zdrav76.ru
SUMMARY:ЦТ. Организационные вопросы
DESCRIPTION:
URL:https://miac.zdrav76.ru/event/%d1%86%d1%82-%d0%be%d1%80%d0%b3%d0%b0%d0%bd%d0%b8%d0%b7%d0%b0%d1%86%d0%b8%d0%be%d0%bd%d0%bd%d1%8b%d0%b5-%d0%b2%d0%be%d0%bf%d1%80%d0%be%d1%81%d1%8b-9/
LOCATION:В режиме ВКС
CATEGORIES:ДЗиФ
END:VEVENT
BEGIN:VEVENT
DTSTART;TZID=Europe/Moscow:20230628T130000
DTEND;TZID=Europe/Moscow:20230628T140000
DTSTAMP:20260424T011231
CREATED:20230628T063210Z
LAST-MODIFIED:20230628T063210Z
UID:25267-1687957200-1687960800@miac.zdrav76.ru
SUMMARY:Аналитические дашборды ЛЛО
DESCRIPTION:
URL:https://miac.zdrav76.ru/event/%d0%b0%d0%bd%d0%b0%d0%bb%d0%b8%d1%82%d0%b8%d1%87%d0%b5%d1%81%d0%ba%d0%b8%d0%b5-%d0%b4%d0%b0%d1%88%d0%b1%d0%be%d1%80%d0%b4%d1%8b-%d0%bb%d0%bb%d0%be/
LOCATION:В режиме ВКС
CATEGORIES:ДЗиФ
END:VEVENT
BEGIN:VEVENT
DTSTART;TZID=Europe/Moscow:20230606T080000
DTEND;TZID=Europe/Moscow:20230606T120000
DTSTAMP:20260424T011231
CREATED:20230605T183053Z
LAST-MODIFIED:20230605T183053Z
UID:25163-1686038400-1686052800@miac.zdrav76.ru
SUMMARY:Запись к врачу через единую службу 122
DESCRIPTION:‼️ ‼️ ‼️ Уважаемые коллеги ‼️ ‼️ ‼️\n⚡️🔺 06.06.2023\, в 8-00 🔺⚡️ состоится совещание Луганского С.В. с руководителями МО и заместителями главного врача по поликлинической работе в режиме видеоконференцсвязи Trueconf.\n✅ Тема: Запись к врачу через единую службу 122\n✅ Участники: МО\, оказывающие первичную медицинскую помощь взрослому населению\n✅ Перед началом ВКС проверить звук и работу камер. ‼️ ‼️ ‼️ МО не подключающие камеры будет зафиксированы как не явившиеся на ВКС.\n✅ Техническая поддержка: (4852)20-54-09\, support@zdrav.yar.ru
URL:https://miac.zdrav76.ru/event/%d0%b7%d0%b0%d0%bf%d0%b8%d1%81%d1%8c-%d0%ba-%d0%b2%d1%80%d0%b0%d1%87%d1%83-%d1%87%d0%b5%d1%80%d0%b5%d0%b7-%d0%b5%d0%b4%d0%b8%d0%bd%d1%83%d1%8e-%d1%81%d0%bb%d1%83%d0%b6%d0%b1%d1%83-122/
LOCATION:В режиме ВКС
CATEGORIES:ДЗиФ
END:VEVENT
BEGIN:VEVENT
DTSTART;TZID=Europe/Moscow:20230303T153000
DTEND;TZID=Europe/Moscow:20230303T180000
DTSTAMP:20260424T011231
CREATED:20230303T092102Z
LAST-MODIFIED:20230303T092158Z
UID:24883-1677857400-1677866400@miac.zdrav76.ru
SUMMARY:Совещание директора ДЗиФ ЯО с главными врачами МО оказывающих *медицинскую помощь в рамках Территориальной программы ОМС*
DESCRIPTION:!!! Уважаемые руководители ‼️\n⚡️🔺 *Сегодня 03.03.2023* *в 15:30* состоится совещание директора департамента в режиме ВКС руководителями медицинских организаций\, оказывающих *медицинскую помощь в рамках Территориальной программы ОМС* \n*Темы*:\n1. COVID-19\n2. Организация профилактических мероприятий\n3. Реализация НП «Здравоохранение» по итогам 2 месяцев 2023 года.\n4. Социальные выплаты врачам \n✅ *Участники:*\n— руководители МО\,\n— заместители главных врачей по амбулаторно-поликлинической работе\,\n— заместители главных врачей по экономическим вопросам. \n✅ МО подключаются в режиме видеоконференцсвязи *Trueconf* . \n✅ До начала трансляции обязательно проверьте настройки микрофона (в разделе видео и звук должны быть включены: АРУ и эхоподавление). Техническая поддержка: (4852)20-54-09\, support@)zdrav.yar.ru.
URL:https://miac.zdrav76.ru/event/%d1%81%d0%be%d0%b2%d0%b5%d1%89%d0%b0%d0%bd%d0%b8%d0%b5-%d0%b4%d0%b8%d1%80%d0%b5%d0%ba%d1%82%d0%be%d1%80%d0%b0-%d0%b4%d0%b7%d0%b8%d1%84-%d1%8f%d0%be-%d1%81-%d0%b3%d0%bb%d0%b0%d0%b2%d0%bd%d1%8b%d0%bc-13/
LOCATION:В режиме ВКС
CATEGORIES:ДЗиФ
END:VEVENT
BEGIN:VEVENT
DTSTART;TZID=Europe/Moscow:20230214T100000
DTEND;TZID=Europe/Moscow:20230214T123000
DTSTAMP:20260424T011231
CREATED:20230213T075017Z
LAST-MODIFIED:20230213T080536Z
UID:24820-1676368800-1676377800@miac.zdrav76.ru
SUMMARY:Улучшение качества оказания медицинской помощи населению города и близлежащего сельского района"
DESCRIPTION:📌📌📌📌\n❗❗ ВАЖНО !!! Уважаемые руководители ‼️\n⚡🔺 Во вторник 14. 02.2023 в 10:00 по инициативе ГБУЗ ЯО «Станция скорой медицинской помощи и центр медицины катастроф» состоится совещание в режиме ВКС с заместителями главных врачей по медицинской части \n✅ Тема: «Улучшение качества оказания медицинской помощи населению города и близлежащего сельского района» \n✅ Участники: \n-ГБУЗ ЯО «Клиническая больница № 2» \n-ГБУЗ ЯО «Клиническая больница № 3» \n-ГАУЗ ЯО «Клиническая больница № 9» \n-ГБУЗ ЯО «Клиническая больница имени Н.А. Семашко» \n-ГБКУЗ ЯО «Центральная городская больница» \n-ГАУЗ ЯО «КБ СМП имени Н.В.Соловьева» \n-ГБУЗ ЯО «Областная клиническая больница» \n-ГБУЗ ЯО «Ярославская областная клиническая наркологическая больница» \n-ГБУЗ ЯО «Инфекционная клиническая больница» \n-ГБКУЗ ЯО «Ярославская областная психиатрическая больница» \n-ГУЗ ЯО «Станция скорой медицинской помощи» г.Рыбинск \n— ГБУЗ ЯО «Тутаевская ЦРБ»​ \n— ГУЗ ЯО «Угличская ЦРБ»​ \n— ГУЗ ЯО Ярославская ЦРБ​ ​ \n— ГУЗ ЯО Большесельская ЦРБ​ ​ \n— ГБУЗ ЯО «Борисоглебская ЦРБ»​ \n— ГУЗ ЯО «Брейтовская ЦРБ»​ \n— ГУЗ ЯО «Гаврилов-Ямская ЦРБ»​ \n— ГБУЗ ЯО Даниловская ЦРБ​ ​ \n— ГБУЗ ЯО «Любимская ЦРБ»​ \n— ГУЗ ЯО «ЦРБ им. Д.Л. Соколова»​ \n— ГУЗ ЯО «Некоузская ЦРБ»​ \n— ГБУЗ ЯО «Некрасовская ЦРБ»​ \n— ГУЗ ЯО «Бурмакинская районная больница № 1″​ \n— ​ ГУЗ ЯО Пречистенская ЦРБ​ ​ \n— ГБУЗ ЯО «Переславская ЦРБ»​ \n— ГУЗ ЯО «Пошехонская ЦРБ»​ \n— ГБУЗ ЯО Ростовская ЦРБ​ ​ \n— ЧУЗ «КБ «РЖД-Медицина» г. Ярославль» \n-ГБУЗ ЯО «Станция скорой медицинской помощи и центр медицины катастроф» \n(инициатор ВКС) \n✅ МО подключаются в режиме видеоконференцсвязи Trueconf . \n✅ До начала трансляции обязательно проверьте настройки микрофона (в разделе видео и звук должны быть включены: АРУ и эхоподавление). Техническая поддержка: (4852)20-54-09\, support@)zdrav.yar.ru.
URL:https://miac.zdrav76.ru/event/%d1%83%d0%bb%d1%83%d1%87%d1%88%d0%b5%d0%bd%d0%b8%d0%b5-%d0%ba%d0%b0%d1%87%d0%b5%d1%81%d1%82%d0%b2%d0%b0-%d0%be%d0%ba%d0%b0%d0%b7%d0%b0%d0%bd%d0%b8%d1%8f-%d0%bc%d0%b5%d0%b4%d0%b8%d1%86%d0%b8%d0%bd-3/
LOCATION:В режиме ВКС
CATEGORIES:ДЗиФ
END:VEVENT
BEGIN:VEVENT
DTSTART;TZID=Europe/Moscow:20230127T140000
DTEND;TZID=Europe/Moscow:20230127T160000
DTSTAMP:20260424T011231
CREATED:20230125T064202Z
LAST-MODIFIED:20230125T064202Z
UID:24735-1674828000-1674835200@miac.zdrav76.ru
SUMMARY:Совещание директора ДЗиФ ЯО со всеми подвед. МО
DESCRIPTION:✅ Тема: *»Взаимодействие с бюро медико-социальной экспертизы» \n✅ Для МО г . Ярославля — совещание очное \, \nостальные МО подключаются в режиме видеоконференцсвязи Trueconf . \n✅ До начала трансляции обязательно проверьте настройки микрофона (в разделе видео и звук должны быть включены:  АРУ и эхоподавление). Техническая поддержка: (4852)20-54-09\, support@)zdrav.yar.ru.
URL:https://miac.zdrav76.ru/event/%d1%81%d0%be%d0%b2%d0%b5%d1%89%d0%b0%d0%bd%d0%b8%d0%b5-%d0%b4%d0%b8%d1%80%d0%b5%d0%ba%d1%82%d0%be%d1%80%d0%b0-%d0%b4%d0%b7%d0%b8%d1%84-%d1%8f%d0%be-%d1%81%d0%be-%d0%b2%d1%81%d0%b5%d0%bc%d0%b8-%d0%bf/
LOCATION:В режиме ВКС
CATEGORIES:ДЗиФ
END:VEVENT
BEGIN:VEVENT
DTSTART;TZID=Europe/Moscow:20230124T140000
DTEND;TZID=Europe/Moscow:20230124T160000
DTSTAMP:20260424T011231
CREATED:20230124T084307Z
LAST-MODIFIED:20230124T084307Z
UID:24733-1674568800-1674576000@miac.zdrav76.ru
SUMMARY:Обеспечение пациентов лекарственными препаратами по решению суда
DESCRIPTION:✅ Техническая поддержка: (4852)20-54-09\, support@zdrav.yar.ru. \n✅ Календарь всех проводимых видеоконференций размещен на сайте ГБУЗ ЯО «ЦОЗиМП» https://ocmp.zdrav76.ru/events/
URL:https://miac.zdrav76.ru/event/%d0%be%d0%b1%d0%b5%d1%81%d0%bf%d0%b5%d1%87%d0%b5%d0%bd%d0%b8%d0%b5-%d0%bf%d0%b0%d1%86%d0%b8%d0%b5%d0%bd%d1%82%d0%be%d0%b2-%d0%bb%d0%b5%d0%ba%d0%b0%d1%80%d1%81%d1%82%d0%b2%d0%b5%d0%bd%d0%bd%d1%8b-2/
LOCATION:В режиме ВКС
CATEGORIES:ДЗиФ
END:VEVENT
BEGIN:VEVENT
DTSTART;TZID=Europe/Moscow:20230118T093000
DTEND;TZID=Europe/Moscow:20230118T113000
DTSTAMP:20260424T011231
CREATED:20230116T081645Z
LAST-MODIFIED:20230116T081645Z
UID:24689-1674034200-1674041400@miac.zdrav76.ru
SUMMARY:Совещание Корзиной Н.С. с МО по вопросам ЛЛО
DESCRIPTION:✅ Тема: Льготное лекарственное обеспечение \n1) Контроль за сроками годности \n2) Обеспечение НМГ \n3) Выписка препаратов по программе ССЗ \n4) ГИБП \n✅ Участники: ответственные лица за программы ЛЛО. \n‼️ ‼️ ‼️ ‼️ При себе иметь все «цифры»\, быть готовыми ответить на вопросы. \n✅ Техническая поддержка: (4852)20-54-09\, support@zdrav.yar.ru. \n✅ Календарь всех проводимых видеоконференций размещен на сайте ГБУЗ ЯО «ЦОЗиМП» https://ocmp.zdrav76.ru/events/
URL:https://miac.zdrav76.ru/event/%d1%81%d0%be%d0%b2%d0%b5%d1%89%d0%b0%d0%bd%d0%b8%d0%b5-%d0%ba%d0%be%d1%80%d0%b7%d0%b8%d0%bd%d0%be%d0%b9-%d0%bd-%d1%81-%d1%81-%d0%bc%d0%be-%d0%bf%d0%be-%d0%b2%d0%be%d0%bf%d1%80%d0%be%d1%81%d0%b0%d0%bc/
LOCATION:В режиме ВКС
CATEGORIES:ДЗиФ
END:VEVENT
BEGIN:VEVENT
DTSTART;TZID=Europe/Moscow:20221229T110000
DTEND;TZID=Europe/Moscow:20221229T130000
DTSTAMP:20260424T011231
CREATED:20221228T053639Z
LAST-MODIFIED:20221228T053639Z
UID:24625-1672311600-1672318800@miac.zdrav76.ru
SUMMARY:Подведение итогов работы в 2022 году
DESCRIPTION:✅ Совещание очное \, в режиме видеоконференцсвязи Trueconf подключаются только: \n1. ЦРБ им. Д. Л. Соколова \n2. Брейтовская ЦРБ \n3. Некоузская ЦРБ \n4. Пошехонская ЦРБ ‼️!
URL:https://miac.zdrav76.ru/event/%d0%bf%d0%be%d0%b4%d0%b2%d0%b5%d0%b4%d0%b5%d0%bd%d0%b8%d0%b5-%d0%b8%d1%82%d0%be%d0%b3%d0%be%d0%b2-%d1%80%d0%b0%d0%b1%d0%be%d1%82%d1%8b-%d0%b2-2022-%d0%b3%d0%be%d0%b4%d1%83/
LOCATION:В режиме ВКС
CATEGORIES:ДЗиФ
END:VEVENT
BEGIN:VEVENT
DTSTART;TZID=Europe/Moscow:20221220T130000
DTEND;TZID=Europe/Moscow:20221220T150000
DTSTAMP:20260424T011231
CREATED:20221220T064134Z
LAST-MODIFIED:20221220T064624Z
UID:24564-1671541200-1671548400@miac.zdrav76.ru
SUMMARY:Совещание ДЗиФ ЯО с руководителями\, участвующими в программе "Модернизация первичного звена здравоохранения"
DESCRIPTION:✅ Участники:⚡️ВСЕ МО УЧАСТВУЮЩИМИ В ПРОГРАММЕ ⚡️ \nТема: Реализация КАПРЕМОНТОВ в 2022 году и 2023 году\, ПРИОБРЕТЕНИЕ ОБОРУДОВАНИЯ в 2022 году и 2023 году. Руководителям быть готовым к ПОДРОБНОМУ докладу по указанным мероприятиям\, В Т.Ч. ПО СРОКАМ ВЫПОЛНЕНИЯ РАБОТ\, ДАТАМ ОПЛАТЫ РАБОТ. \n✅До начала трансляции обязательно проверьте настройки микрофона (в разделе видео и звук должны быть включены:  АРУ и эхоподавление). Техническая поддержка: (4852) 20-54-09\, support@zdrav.yar.ru
URL:https://miac.zdrav76.ru/event/%d1%81%d0%be%d0%b2%d0%b5%d1%89%d0%b0%d0%bd%d0%b8%d0%b5-%d0%b4%d0%b7%d0%b8%d1%84-%d1%8f%d0%be-%d1%81-%d1%80%d1%83%d0%ba%d0%be%d0%b2%d0%be%d0%b4%d0%b8%d1%82%d0%b5%d0%bb%d1%8f%d0%bc%d0%b8-%d1%83%d1%87/
LOCATION:В режиме ВКС
CATEGORIES:ДЗиФ
END:VEVENT
BEGIN:VEVENT
DTSTART;TZID=Europe/Moscow:20221209T153000
DTEND;TZID=Europe/Moscow:20221209T173000
DTSTAMP:20260424T011231
CREATED:20221209T110401Z
LAST-MODIFIED:20221209T110401Z
UID:24511-1670599800-1670607000@miac.zdrav76.ru
SUMMARY:Cовещание с главными врачами
DESCRIPTION:
URL:https://miac.zdrav76.ru/event/c%d0%be%d0%b2%d0%b5%d1%89%d0%b0%d0%bd%d0%b8%d0%b5-%d1%81-%d0%b3%d0%bb%d0%b0%d0%b2%d0%bd%d1%8b%d0%bc%d0%b8-%d0%b2%d1%80%d0%b0%d1%87%d0%b0%d0%bc%d0%b8/
LOCATION:В режиме ВКС
CATEGORIES:ДЗиФ
END:VEVENT
BEGIN:VEVENT
DTSTART;TZID=Europe/Moscow:20221209T130000
DTEND;TZID=Europe/Moscow:20221209T150000
DTSTAMP:20260424T011231
CREATED:20221209T110100Z
LAST-MODIFIED:20221209T110100Z
UID:24509-1670590800-1670598000@miac.zdrav76.ru
SUMMARY:Совещание с руководителями МО\, г. Рыбинск и ЦРБ
DESCRIPTION:Участники : ДЗиФ ЯО ; Рыбинск и ЦРБ
URL:https://miac.zdrav76.ru/event/%d1%81%d0%be%d0%b2%d0%b5%d1%89%d0%b0%d0%bd%d0%b8%d0%b5-%d1%81-%d1%80%d1%83%d0%ba%d0%be%d0%b2%d0%be%d0%b4%d0%b8%d1%82%d0%b5%d0%bb%d1%8f%d0%bc%d0%b8-%d0%bc%d0%be-%d0%b3-%d1%80%d1%8b%d0%b1%d0%b8%d0%bd/
LOCATION:В режиме ВКС
CATEGORIES:ДЗиФ
END:VEVENT
BEGIN:VEVENT
DTSTART;TZID=Europe/Moscow:20221124T113000
DTEND;TZID=Europe/Moscow:20221124T133000
DTSTAMP:20260424T011231
CREATED:20221124T052201Z
LAST-MODIFIED:20221124T052611Z
UID:24341-1669289400-1669296600@miac.zdrav76.ru
SUMMARY:Совещание с руководителями МО\, оказывающих первичную помощь\, в том числе детскому населению
DESCRIPTION:✅ Тема: \n1.Диспансеризация \n2. Профилактические осмотры \n3. Вакцинация грипп и Ковид \n4. Прочее \n✅НЕОБХОДИМО БЫТЬ ГОТОВЫМИ ДЛЯ ПОЯСНЕНИЯ СТАТУСА ИСПОЛНЕНИЯ ВЫШЕУКАЗАННЫХ ВОПРОСОВ‼️ \n✅ До начала трансляции обязательно проверьте настройки микрофона (в разделе видео и звук должны быть включены:  АРУ и эхоподавление). Техническая поддержка: (4852)20-54-09\, support@)zdrav.yar.ru.
URL:https://miac.zdrav76.ru/event/%d1%81%d0%be%d0%b2%d0%b5%d1%89%d0%b0%d0%bd%d0%b8%d0%b5-%d1%81-%d1%80%d1%83%d0%ba%d0%be%d0%b2%d0%be%d0%b4%d0%b8%d1%82%d0%b5%d0%bb%d1%8f%d0%bc%d0%b8-%d0%bc%d0%be-%d0%be%d0%ba%d0%b0%d0%b7%d1%8b%d0%b2/
LOCATION:В режиме ВКС
CATEGORIES:ДЗиФ
END:VEVENT
BEGIN:VEVENT
DTSTART;TZID=Europe/Moscow:20221123T140000
DTEND;TZID=Europe/Moscow:20221123T160000
DTSTAMP:20260424T011231
CREATED:20221122T124015Z
LAST-MODIFIED:20221122T124015Z
UID:24327-1669212000-1669219200@miac.zdrav76.ru
SUMMARY:Персонифицированный учёт лекарственных препаратов в стационаре
DESCRIPTION:✅ *Участники* : \n1. Госпиталь ветеранов войн \n2. Областная клиническая туберкулёзная больница \n3. Областной перинатальный центр \n4. Ярославская областная клиническая наркологическая больница \n5. Центральная городская больница \n6. Клиническая больница N 2 \n7. Клиническая больница N 3 \n8. Клиническая больница N 9 \n9. Клиническая больница им. Н.А Семашко \n10. Угличская ЦРБ \n✅ До начала трансляции обязательно проверьте настройки микрофона (в разделе видео и звук должны быть включены:  АРУ и эхоподавление). Техническая поддержка: (4852)20-54-09\, support@)zdrav.yar.ru.
URL:https://miac.zdrav76.ru/event/%d0%bf%d0%b5%d1%80%d1%81%d0%be%d0%bd%d0%b8%d1%84%d0%b8%d1%86%d0%b8%d1%80%d0%be%d0%b2%d0%b0%d0%bd%d0%bd%d1%8b%d0%b9-%d1%83%d1%87%d1%91%d1%82-%d0%bb%d0%b5%d0%ba%d0%b0%d1%80%d1%81%d1%82%d0%b2%d0%b5%d0%bd/
LOCATION:В режиме ВКС
CATEGORIES:ДЗиФ
END:VEVENT
BEGIN:VEVENT
DTSTART;TZID=Europe/Moscow:20221115T090000
DTEND;TZID=Europe/Moscow:20221115T133000
DTSTAMP:20260424T011231
CREATED:20221114T101512Z
LAST-MODIFIED:20221114T103004Z
UID:24214-1668502800-1668519000@miac.zdrav76.ru
SUMMARY:Эффективная работа в системе «ГОСПАБЛИКИ»
DESCRIPTION:https://youtu.be/ItscQhtnDWQ \n✅ До начала трансляции обязательно проверьте настройки микрофона (в разделе видео и звук должны быть включены:  АРУ и эхоподавление). Техническая поддержка: (4852)20-54-09\, support@)zdrav.yar.ru. \n_Тема обучения: \nЭффективная работа в системе «Госпаблики» \n— Базовые основы коммуникации с обществом \n— Понятия и метрики в социальных сетях \n— Базовые правила ведения страниц. Организация работы \n— Контент-план\, медиаплан \n— «Новая искренность» и живой язык в социальных сетях \n— Типы контента в социальных сетях \n— Работа с комментариями и обратной связью \n— Приземление федеральной\, региональной повестки. Работа с отраслевыми инфоповодами \n— Взаимодействие с блогерами\, ЛОМами\, неофициальными пабликами_
URL:https://miac.zdrav76.ru/event/%d1%8d%d1%84%d1%84%d0%b5%d0%ba%d1%82%d0%b8%d0%b2%d0%bd%d0%b0%d1%8f-%d1%80%d0%b0%d0%b1%d0%be%d1%82%d0%b0-%d0%b2-%d1%81%d0%b8%d1%81%d1%82%d0%b5%d0%bc%d0%b5-%d0%b3%d0%be%d1%81%d0%bf%d0%b0%d0%b1/
LOCATION:В режиме ВКС
CATEGORIES:ДЗиФ
END:VEVENT
BEGIN:VEVENT
DTSTART;TZID=Europe/Moscow:20221110T130000
DTEND;TZID=Europe/Moscow:20221110T150000
DTSTAMP:20260424T011231
CREATED:20221108T123926Z
LAST-MODIFIED:20221108T123926Z
UID:24151-1668085200-1668092400@miac.zdrav76.ru
SUMMARY:Признание пациента нуждающимся в оказании паллиативной медицинской помощи
DESCRIPTION:✅ Участвуют: руководители МО\, заместители руководителей по амбулаторно-поликлинической работе\, стационарной помощи\, клинико-экспертной работе. \n✅ Список медицинских организаций для участия: \n1. ГБКУЗ ЯО «Центральная городская больница» \n2. ГБУЗ ЯО «Клиническая больница № 3» \n3. ГБУЗ ЯО «Клиническая больница № 2» \n4. ГАУЗ ЯО «Клиническая больница № 9» \n5. ГБУЗ ЯО «Клиническая больница имени Н.А. Семашко» \n6. ГБУЗ ЯО «Рыбинская городская больница №1» \n7. ГБУЗ ЯО «Городская больница №2 им. Н.И. Пирогова» \n8. ГУЗ ЯО городская больница № 3 \n9. ГУЗ ЯО городская больница № 4 \n10. ГУЗ ЯО «Городская поликлиника № 3 им. Н.А. Семашко» \n11. ГУЗ ЯО Большесельская ЦРБ \n12. ГБУЗ ЯО «Борисоглебская ЦРБ» \n13. ГУЗ ЯО «Брейтовская центральная районная больница» \n14. ГУЗ ЯО «Гаврилов-Ямская ЦРБ» \n15. ГБУЗ ЯО Даниловская ЦРБ \n16. ГБУЗ ЯО «Любимская ЦРБ» \n17. ГУЗ ЯО «ЦРБ им. Д.Л. Соколова» \n18. ГУЗ ЯО «Некоузская центральная районная больница» \n19. ГБУЗ ЯО «Некрасовская центральная районная больница» \n20. ГУЗ ЯО «Бурмакинская районная больница № 1» \n21. ГУЗ ЯО Пречистенская центральная районная больница \n22. ГБУЗ ЯО «Переславская ЦРБ» \n23. ГУЗ ЯО «Пошехонская центральная районная больница» \n24. ГБУЗ ЯО Ростовская ЦРБ \n25. ГУЗ ЯО «Рыбинская ЦРП» \n26. ГБУЗ ЯО «Тутаевская ЦРБ» \n27. ГУЗ ЯО «Угличская ЦРБ» \n28. ГУЗ ЯО Ярославская ЦРБ \n29. ГБУЗ ЯО «Инфекционная клиническая больница» \n30. ГБУЗ ЯО «Ярославская областная клиническая туберкулезная больница» \n31. ГБУЗ ЯО «Ярославская областная клиническая наркологическая больница» \n32. ГАУЗ ЯО «Клиническая больница скорой медицинской помощи им. Н. В. СОЛОВЬЕВА» \n33. ГБУЗ ЯО «Областная клиническая онкологическая больница» \n34. ГБУЗ ЯО» ЯОКГВВ-МЦ «Здоровое долголетие » \n35. ГБУЗ ЯО «Областная клиническая психиатрическая больница» \n36. ГБУЗ ЯО «Областная клиническая больница» \n✅ До начала трансляции обязательно проверьте настройки микрофона (в разделе видео и звук должны быть включены:  АРУ и эхоподавление). Техническая поддержка: (4852)20-54-09\, support@)zdrav.yar.ru
URL:https://miac.zdrav76.ru/event/%d0%bf%d1%80%d0%b8%d0%b7%d0%bd%d0%b0%d0%bd%d0%b8%d0%b5-%d0%bf%d0%b0%d1%86%d0%b8%d0%b5%d0%bd%d1%82%d0%b0-%d0%bd%d1%83%d0%b6%d0%b4%d0%b0%d1%8e%d1%89%d0%b8%d0%bc%d1%81%d1%8f-%d0%b2-%d0%be%d0%ba%d0%b0/
LOCATION:В режиме ВКС
CATEGORIES:ДЗиФ
END:VEVENT
BEGIN:VEVENT
DTSTART;TZID=Europe/Moscow:20221103T150000
DTEND;TZID=Europe/Moscow:20221103T170000
DTSTAMP:20260424T011231
CREATED:20221103T082558Z
LAST-MODIFIED:20221103T082907Z
UID:24118-1667487600-1667494800@miac.zdrav76.ru
SUMMARY:Совещание со всеми подведомственными департаменту медицинскими организациями\, оказывающими первичную медико-санитарную помощь *взрослому И ДЕТСКОМУ * населению
DESCRIPTION:✅ Темы: Диспансеризация и медицинские осмотры \n✅ Участники: Все МО\, подведомственные ДЗИФ ЯО \, оказывающие первичную медико-санитарную помощь *взрослому И ДЕТСКОМУ * населению \n✅ До начала трансляции обязательно проверьте настройки микрофона (в разделе видео и звук должны быть включены:  АРУ и эхоподавление). Техническая поддержка: (4852)20-54-09\, support@)zdrav.yar.ru.
URL:https://miac.zdrav76.ru/event/%d1%81%d0%be%d0%b2%d0%b5%d1%89%d0%b0%d0%bd%d0%b8%d0%b5-%d1%81%d0%be-%d0%b2%d1%81%d0%b5%d0%bc%d0%b8-%d0%bf%d0%be%d0%b4%d0%b2%d0%b5%d0%b4%d0%be%d0%bc%d1%81%d1%82%d0%b2%d0%b5%d0%bd%d0%bd%d1%8b%d0%bc/
LOCATION:В режиме ВКС
CATEGORIES:ДЗиФ
END:VEVENT
BEGIN:VEVENT
DTSTART;TZID=Europe/Moscow:20221101T140000
DTEND;TZID=Europe/Moscow:20221101T160000
DTSTAMP:20260424T011231
CREATED:20221031T083138Z
LAST-MODIFIED:20221031T083138Z
UID:24065-1667311200-1667318400@miac.zdrav76.ru
SUMMARY:Совещание с главными врачами\, районными педиатрами\, заведующими детскими поликлиниками
DESCRIPTION:✅ Тема: \n1. Мертворожденность \n2. Младенческая и детская смертность \n3. Исполнение показателей НП «Развитие детского здравоохранения» \n✅ Техническая поддержка: (4852)20-54-09\, support@zdrav.yar.ru
URL:https://miac.zdrav76.ru/event/%d1%81%d0%be%d0%b2%d0%b5%d1%89%d0%b0%d0%bd%d0%b8%d0%b5-%d1%81-%d0%b3%d0%bb%d0%b0%d0%b2%d0%bd%d1%8b%d0%bc%d0%b8-%d0%b2%d1%80%d0%b0%d1%87%d0%b0%d0%bc%d0%b8-%d1%80%d0%b0%d0%b9%d0%be%d0%bd%d0%bd%d1%8b/
LOCATION:В режиме ВКС
CATEGORIES:ДЗиФ
END:VEVENT
END:VCALENDAR