BEGIN:VCALENDAR
VERSION:2.0
PRODID:-//ГБУЗ ЯО &quot;Медицинский информационно-аналитический центр&quot; - ECPv6.15.17.1//NONSGML v1.0//EN
CALSCALE:GREGORIAN
METHOD:PUBLISH
X-WR-CALNAME:ГБУЗ ЯО &quot;Медицинский информационно-аналитический центр&quot;
X-ORIGINAL-URL:https://miac.zdrav76.ru
X-WR-CALDESC:Мероприятия для ГБУЗ ЯО &quot;Медицинский информационно-аналитический центр&quot;
REFRESH-INTERVAL;VALUE=DURATION:PT1H
X-Robots-Tag:noindex
X-PUBLISHED-TTL:PT1H
BEGIN:VTIMEZONE
TZID:Europe/Moscow
BEGIN:STANDARD
TZOFFSETFROM:+0300
TZOFFSETTO:+0300
TZNAME:MSK
DTSTART:20200101T000000
END:STANDARD
END:VTIMEZONE
BEGIN:VEVENT
DTSTART;TZID=Europe/Moscow:20220405T100000
DTEND;TZID=Europe/Moscow:20220405T120000
DTSTAMP:20260426T011639
CREATED:20220404T133010Z
LAST-MODIFIED:20220404T133010Z
UID:22061-1649152800-1649160000@miac.zdrav76.ru
SUMMARY:Рабочее совещание ДЗиФ ЯО с главными врачами МО
DESCRIPTION:✅ Тема: ЗДРАВКОНТРОЛЬ \n✅ Участники: Все лечебные МО \n✅ До начала трансляции обязательно проверьте настройки микрофона (в разделе видео и звук должны быть включены:  АРУ и эхоподавление). Техническая поддержка: (4852)20-54-09\, support@zdrav.yar.ru.
URL:https://miac.zdrav76.ru/event/%d1%80%d0%b0%d0%b1%d0%be%d1%87%d0%b5%d0%b5-%d1%81%d0%be%d0%b2%d0%b5%d1%89%d0%b0%d0%bd%d0%b8%d0%b5-%d0%b4%d0%b7%d0%b8%d1%84-%d1%8f%d0%be-%d1%81-%d0%b3%d0%bb%d0%b0%d0%b2%d0%bd%d1%8b%d0%bc%d0%b8-%d0%b2/
LOCATION:В режиме ВКС
CATEGORIES:ДЗиФ
END:VEVENT
BEGIN:VEVENT
DTSTART;TZID=Europe/Moscow:20220331T110000
DTEND;TZID=Europe/Moscow:20220331T130000
DTSTAMP:20260426T011639
CREATED:20220331T062223Z
LAST-MODIFIED:20220331T062223Z
UID:22015-1648724400-1648731600@miac.zdrav76.ru
SUMMARY:Совещание директора ДЗиФ ЯО с главными врачами МО
DESCRIPTION:✅ Тема: \n1. Covid-19 \n2. Вакцинация \n3. Модернизация первичного звена \n✅ Участники: ВСЕ  медицинские организации\, участвующие в вышеуказанных процессах \n✅ До начала трансляции обязательно проверьте настройки микрофона (в разделе видео и звук должны быть включены:  АРУ и эхоподавление). Техническая поддержка: (4852)20-54-09\, support@zdrav.yar.ru.
URL:https://miac.zdrav76.ru/event/%d1%81%d0%be%d0%b2%d0%b5%d1%89%d0%b0%d0%bd%d0%b8%d0%b5-%d0%b4%d0%b8%d1%80%d0%b5%d0%ba%d1%82%d0%be%d1%80%d0%b0-%d0%b4%d0%b7%d0%b8%d1%84-%d1%8f%d0%be-%d1%81-%d0%b3%d0%bb%d0%b0%d0%b2%d0%bd%d1%8b%d0%bc-8/
LOCATION:В режиме ВКС
CATEGORIES:ДЗиФ
END:VEVENT
BEGIN:VEVENT
DTSTART;TZID=Europe/Moscow:20220323T150000
DTEND;TZID=Europe/Moscow:20220323T170000
DTSTAMP:20260426T011639
CREATED:20220323T053449Z
LAST-MODIFIED:20220323T053449Z
UID:21921-1648047600-1648054800@miac.zdrav76.ru
SUMMARY:рабочее совещание с Тюриной Н.В.
DESCRIPTION:✅ Тема: Модернизация и капремонт \n✅ Участники: \n1. ГБУЗ ЯО «Некрасовская ЦРБ» \n2. ГБУЗ ЯО Ростовская ЦРБ \n3. ГУЗ ЯО Пречистенская ЦРБ \n4. ГУЗ ЯО Пошехонская ЦРБ \n5. ГБУЗ ЯО Угличская ЦРБ \n6. ГУЗ ЯО «Ярославская ЦРБ» \n7. ГБУЗ ЯО «Гаврилов-Ямская ЦРБ» \n8. ГБУЗ ЯО «Любимская ЦРБ» \n9. ГУЗ ЯО «Рыбинская ЦРП» \n10. ГБУЗ ЯО Даниловская ЦРБ \n11. ГУЗ ЯО Некоузская ЦРБ \n12. ГБУЗ ЯО Тутаевская ЦРБ \n13. ГУЗ ЯО «Бурмакинская районная больница № 1» \n14. ГБУЗ ЯО Переславская ЦРБ \n15. ГУЗ ЯО «ЦРБ им.Д.Л.Соколова» \n16. ГБУЗ ЯО Большесельская ЦРБ \n17. ГБУЗ ЯО Брейтовская ЦРБ \n18. ГБУЗ ЯО Борисоглебская ЦРБ \n19. ГБУЗ ЯО КБ имени Н.А.Семашко г. Ярославль \n20. ГБУЗ ЯО Клиническая больница № 2 г. Ярославль \n21. ГБКУЗ ЯО «ЦГБ» г.Ярославль \n22. ГБУЗ ЯО Клиническая больница № 3 г.Ярославль \n23. ГУЗ ЯО «Детская поликлиника № 5» \n24. ГУЗ ЯО «Детская поликлиника № 3» \n25. ГУЗ ЯО «Городская поликлиника №3 им. Н.А. Семашко» г. Рыбинск \n26. ГБУЗ ЯО «Городская больница №2 им. Н.И. Пирогова \n27. ГУЗ ЯО городская больница № 4 г.Рыбинска \n28. ГУЗ ЯО городская больница №3 г.Рыбинск \n29. ГБУЗ  ЯО  «Рыбинская городская больница №1» \n30. ГБУЗ ЯО «ГОРОДСКАЯ ДЕТСКАЯ БОЛЬНИЦА» \nДо начала трансляции обязательно проверьте настройки микрофона (в разделе видео и звук должны быть включены:  АРУ и эхоподавление). Техническая поддержка: (4852) 20-54-09\, support@zdrav.yar.ru
URL:https://miac.zdrav76.ru/event/%d1%80%d0%b0%d0%b1%d0%be%d1%87%d0%b5%d0%b5-%d1%81%d0%be%d0%b2%d0%b5%d1%89%d0%b0%d0%bd%d0%b8%d0%b5-%d1%81-%d1%82%d1%8e%d1%80%d0%b8%d0%bd%d0%be%d0%b9-%d0%bd-%d0%b2/
LOCATION:В режиме ВКС
CATEGORIES:ДЗиФ
END:VEVENT
BEGIN:VEVENT
DTSTART;TZID=Europe/Moscow:20220323T140000
DTEND;TZID=Europe/Moscow:20220323T160000
DTSTAMP:20260426T011639
CREATED:20220323T094014Z
LAST-MODIFIED:20220323T094014Z
UID:21927-1648044000-1648051200@miac.zdrav76.ru
SUMMARY:Совещание директора ДЗиФ ЯО с главными врачами МО
DESCRIPTION:⚠️С РУКОВОДИТЕЛЯМИ ВСЕХ МО \nТЕМА: ⚡️ПРОБЛЕМЫ ПРОВЕДЕНИЯ ЗАКУПОЧНЫХ ПРОЦЕДУР НА ЛЕКАРСТВЕННЫЕ ПРЕПАРАТЫ И ИЗДЕЛИЯ МЕДИЦИНСКОГО НАЗНАЧЕНИЯ. ⚡️ГОТОВНОСТЬ ПРОВЕДЕНИЯ ЦЕНТРАЛИЗОВАННЫХ ЗАКУПОК. \n✅До начала трансляции обязательно проверьте настройки микрофона (в разделе видео и звук должны быть включены:  АРУ и эхоподавление). Техническая поддержка: (4852)20-54-09\, support@zdrav.yar.ru.
URL:https://miac.zdrav76.ru/event/%d1%81%d0%be%d0%b2%d0%b5%d1%89%d0%b0%d0%bd%d0%b8%d0%b5-%d0%b4%d0%b8%d1%80%d0%b5%d0%ba%d1%82%d0%be%d1%80%d0%b0-%d0%b4%d0%b7%d0%b8%d1%84-%d1%8f%d0%be-%d1%81-%d0%b3%d0%bb%d0%b0%d0%b2%d0%bd%d1%8b%d0%bc-7/
LOCATION:В режиме ВКС
CATEGORIES:ДЗиФ
END:VEVENT
BEGIN:VEVENT
DTSTART;TZID=Europe/Moscow:20220317T110000
DTEND;TZID=Europe/Moscow:20220317T130000
DTSTAMP:20260426T011639
CREATED:20220317T063925Z
LAST-MODIFIED:20220317T063925Z
UID:21853-1647514800-1647522000@miac.zdrav76.ru
SUMMARY:Совещание директора ДЗиФ ЯО с главными врачами МО
DESCRIPTION:✅ Тема: \n1. Covid-19 \n2. Аккредитация \n3. Текущие вопросы \n✅ Участники: ВСЕ ЛЕЧЕБНЫЕ медицинские организации \n✅ До начала трансляции обязательно проверьте настройки микрофона (в разделе видео и звук должны быть включены:  АРУ и эхоподавление). Техническая поддержка: (4852)20-54-09\, support@zdrav.yar.ru.
URL:https://miac.zdrav76.ru/event/%d1%81%d0%be%d0%b2%d0%b5%d1%89%d0%b0%d0%bd%d0%b8%d0%b5-%d0%b4%d0%b8%d1%80%d0%b5%d0%ba%d1%82%d0%be%d1%80%d0%b0-%d0%b4%d0%b7%d0%b8%d1%84-%d1%8f%d0%be-%d1%81-%d0%b3%d0%bb%d0%b0%d0%b2%d0%bd%d1%8b%d0%bc-6/
LOCATION:В режиме ВКС
CATEGORIES:ДЗиФ
END:VEVENT
BEGIN:VEVENT
DTSTART;TZID=Europe/Moscow:20220315T150000
DTEND;TZID=Europe/Moscow:20220315T170000
DTSTAMP:20260426T011639
CREATED:20220315T113718Z
LAST-MODIFIED:20220315T113718Z
UID:21818-1647356400-1647363600@miac.zdrav76.ru
SUMMARY:совещание ДЗиФ ЯО с главными врачами МО
DESCRIPTION:✅ Участники: Все МО\, оказывающие первичную медико-санитарную помощь\, Госпиталь ветеранов войн\, Областная клиническая больница. \n✅До начала трансляции обязательно проверьте настройки микрофона (в разделе видео и звук должны быть включены:  АРУ и эхоподавление). Техническая поддержка: (4852) 20-54-09\, support@zdrav.yar.ru
URL:https://miac.zdrav76.ru/event/%d1%81%d0%be%d0%b2%d0%b5%d1%89%d0%b0%d0%bd%d0%b8%d0%b5-%d0%b4%d0%b7%d0%b8%d1%84-%d1%8f%d0%be-%d1%81-%d0%b3%d0%bb%d0%b0%d0%b2%d0%bd%d1%8b%d0%bc%d0%b8-%d0%b2%d1%80%d0%b0%d1%87%d0%b0%d0%bc%d0%b8-%d0%bc/
LOCATION:В режиме ВКС
CATEGORIES:ДЗиФ
END:VEVENT
BEGIN:VEVENT
DTSTART;TZID=Europe/Moscow:20220311T130000
DTEND;TZID=Europe/Moscow:20220311T150000
DTSTAMP:20260426T011639
CREATED:20220311T052301Z
LAST-MODIFIED:20220311T052301Z
UID:21774-1647003600-1647010800@miac.zdrav76.ru
SUMMARY:ВКС С РУКОВОДИТЕЛЯМИ МО\, ОКАЗЫВАЮЩИМИ ПОМОЩЬ ВЗРОСЛОМУ НАСЕЛЕНИЮ ПО ПРОФИЛЮ ТЕРАПИЯ И КАРДИОЛОГИЯ\, ЗАВЕДУЮЩИМИ ПОЛИКЛИНИК \,НАЧМЕДАМИ
DESCRIPTION:ТЕМА: организация оказания медицинской помощи по профилю кардиология и терапия в ЯО и подготовка к выездному мероприятию НМИЦ терапии и кардиологии. \n✅ До начала трансляции обязательно проверьте настройки микрофона (в разделе видео и звук должны быть включены:  АРУ и эхоподавление). Техническая поддержка: (4852)20-54-09\, support@zdrav.yar.ru
URL:https://miac.zdrav76.ru/event/%d0%b2%d0%ba%d1%81-%d1%81-%d1%80%d1%83%d0%ba%d0%be%d0%b2%d0%be%d0%b4%d0%b8%d1%82%d0%b5%d0%bb%d1%8f%d0%bc%d0%b8-%d0%bc%d0%be-%d0%be%d0%ba%d0%b0%d0%b7%d1%8b%d0%b2%d0%b0%d1%8e%d1%89%d0%b8%d0%bc%d0%b8/
LOCATION:В режиме ВКС
CATEGORIES:ДЗиФ
END:VEVENT
BEGIN:VEVENT
DTSTART;TZID=Europe/Moscow:20220310T130000
DTEND;TZID=Europe/Moscow:20220310T150000
DTSTAMP:20260426T011639
CREATED:20220309T150112Z
LAST-MODIFIED:20220310T102453Z
UID:21760-1646917200-1646924400@miac.zdrav76.ru
SUMMARY:ВКС С ЗАВЕДУЮЩИМИ ДЕТСКИХ ПОЛИКЛИНИК\, РАЙОННЫХ ПЕДИАТРОВ\, ЛИЦ\, ОТВЕТСТВЕННЫХ ЗА ОРГАНИЗАЦИЮ УДАЛЕННОЙ ЗАПИСИ В ОДКБ.
DESCRIPTION:ТЕМА: \n✅РЕГЛАМЕНТ ЗАПИСИ В КДЦ ОДКБ \n✅ ВОПРОСЫ ВАКЦИНОПРОФИЛАКТИКИ \n✅РАЗНОЕ \n✅ До начала трансляции обязательно проверьте настройки микрофона (в разделе видео и звук должны быть включены:  АРУ и эхоподавление). Техническая поддержка: (4852)20-54-09\, support@zdrav.yar.ru
URL:https://miac.zdrav76.ru/event/%d0%b2%d0%ba%d1%81-%d1%81-%d0%b7%d0%b0%d0%b2%d0%b5%d0%b4%d1%83%d1%8e%d1%89%d0%b8%d0%bc%d0%b8-%d0%b4%d0%b5%d1%82%d1%81%d0%ba%d0%b8%d1%85-%d0%bf%d0%be%d0%bb%d0%b8%d0%ba%d0%bb%d0%b8%d0%bd%d0%b8%d0%ba/
LOCATION:В режиме ВКС
CATEGORIES:ДЗиФ
END:VEVENT
BEGIN:VEVENT
DTSTART;TZID=Europe/Moscow:20220303T110000
DTEND;TZID=Europe/Moscow:20220303T130000
DTSTAMP:20260426T011639
CREATED:20220303T073620Z
LAST-MODIFIED:20220303T073620Z
UID:21700-1646305200-1646312400@miac.zdrav76.ru
SUMMARY:Совещание директора ДЗиФ ЯО с главными врачами МО
DESCRIPTION:✅ Тема: Текущие вопросы \n✅ Участники: ВСЕ медицинские организации \n✅ До начала трансляции обязательно проверьте настройки микрофона (в разделе видео и звук должны быть включены:  АРУ и эхоподавление). Техническая поддержка: (4852)20-54-09\, support@)zdrav.yar.ru.
URL:https://miac.zdrav76.ru/event/%d1%81%d0%be%d0%b2%d0%b5%d1%89%d0%b0%d0%bd%d0%b8%d0%b5-%d0%b4%d0%b8%d1%80%d0%b5%d0%ba%d1%82%d0%be%d1%80%d0%b0-%d0%b4%d0%b7%d0%b8%d1%84-%d1%8f%d0%be-%d1%81-%d0%b3%d0%bb%d0%b0%d0%b2%d0%bd%d1%8b%d0%bc-5/
LOCATION:В режиме ВКС
CATEGORIES:ДЗиФ
END:VEVENT
BEGIN:VEVENT
DTSTART;TZID=Europe/Moscow:20220225T163000
DTEND;TZID=Europe/Moscow:20220225T183000
DTSTAMP:20260426T011639
CREATED:20220225T115308Z
LAST-MODIFIED:20220225T115308Z
UID:21599-1645806600-1645813800@miac.zdrav76.ru
SUMMARY:Беженцы
DESCRIPTION:Участники : Ярославская\, Тутаевская\, Ростовская ЦРБ\, ДЗИФ \nДо начала трансляции обязательно проверьте настройки микрофона (в разделе видео и звук должны быть включены:  АРУ и эхоподавление). Техническая поддержка: (4852) 20-54-09\, support@zdrav.yar.ru
URL:https://miac.zdrav76.ru/event/%d0%b1%d0%b5%d0%b6%d0%b5%d0%bd%d1%86%d1%8b/
LOCATION:В режиме ВКС
CATEGORIES:ДЗиФ
END:VEVENT
BEGIN:VEVENT
DTSTART;TZID=Europe/Moscow:20220222T113000
DTEND;TZID=Europe/Moscow:20220222T133000
DTSTAMP:20260426T011639
CREATED:20220222T072226Z
LAST-MODIFIED:20220222T081012Z
UID:21566-1645529400-1645536600@miac.zdrav76.ru
SUMMARY:Совещание директора департамента с главными врачами МО
DESCRIPTION:✅ Темы: \n1.COVID-19\, ТЕСТИРОВАНИЕ\, РАБОТА КОНСУЛЬТАТИВНО-ДИАГНОСТИЧЕСКИХ ЦЕНТРОВ\, ПЦР ТЕСТИРОВАНИЕ \n2. ВАКЦИНАЦИЯ \n3. Модернизация первичного звена. \n4 Дистанционное ЭКГ \n✅ Участники: Все МО\, оказывающие лечебно-диагностическую помощь \n✅ До начала трансляции обязательно проверьте настройки микрофона (в разделе видео и звук должны быть включены:  АРУ и эхоподавление). Техническая поддержка: (4852)20-54-09\, support@)zdrav.yar.ru.
URL:https://miac.zdrav76.ru/event/%d1%81%d0%be%d0%b2%d0%b5%d1%89%d0%b0%d0%bd%d0%b8%d0%b5-%d0%b4%d0%b8%d1%80%d0%b5%d0%ba%d1%82%d0%be%d1%80%d0%b0-%d0%b4%d0%b5%d0%bf%d0%b0%d1%80%d1%82%d0%b0%d0%bc%d0%b5%d0%bd%d1%82%d0%b0-%d1%81-%d0%b3/
LOCATION:В режиме ВКС
CATEGORIES:ДЗиФ
END:VEVENT
BEGIN:VEVENT
DTSTART;TZID=Europe/Moscow:20220217T110000
DTEND;TZID=Europe/Moscow:20220217T130000
DTSTAMP:20260426T011639
CREATED:20220217T081707Z
LAST-MODIFIED:20220217T081707Z
UID:21507-1645095600-1645102800@miac.zdrav76.ru
SUMMARY:Совещание директора ДЗиФ ЯО с главными врачами МО
DESCRIPTION:✅ Темы: 1. COVID-19\, ТЕСТИРОВАНИЕ\, РАБОТА КОНСУЛЬТАТИВНО-ДИАГНОСТИЧЕСКИХ ЦЕНТРОВ\, ПЦР ТЕСТИРОВАНИЕ \n2. ВАКЦИНАЦИЯ \n3. Модернизация первичного звена \n✅ Участники: Все МО\, оказывающие лечебно-диагностическую помощь \n✅ До начала трансляции обязательно проверьте настройки микрофона (в разделе видео и звук должны быть включены:  АРУ и эхоподавление). Техническая поддержка: (4852)20-54-09\, support@)zdrav.yar.ru.
URL:https://miac.zdrav76.ru/event/%d1%81%d0%be%d0%b2%d0%b5%d1%89%d0%b0%d0%bd%d0%b8%d0%b5-%d0%b4%d0%b8%d1%80%d0%b5%d0%ba%d1%82%d0%be%d1%80%d0%b0-%d0%b4%d0%b7%d0%b8%d1%84-%d1%8f%d0%be-%d1%81-%d0%b3%d0%bb%d0%b0%d0%b2%d0%bd%d1%8b%d0%bc-4/
LOCATION:В режиме ВКС
CATEGORIES:ДЗиФ
END:VEVENT
BEGIN:VEVENT
DTSTART;TZID=Europe/Moscow:20220210T110000
DTEND;TZID=Europe/Moscow:20220210T130000
DTSTAMP:20260426T011639
CREATED:20220209T151452Z
LAST-MODIFIED:20220209T151529Z
UID:21435-1644490800-1644498000@miac.zdrav76.ru
SUMMARY:Совещание директора ДЗиФ ЯО с главными врачами МО
DESCRIPTION:✅ Темы: 1. COVID-19 \n2. Лицензирование \n3. Модернизация первичного звена \n✅ Участники: Все МО\, оказывающие лечебно-диагностическую помощь \n✅ До начала трансляции обязательно проверьте настройки микрофона (в разделе видео и звук должны быть включены:  АРУ и эхоподавление). Техническая поддержка: (4852)20-54-09\, support@)zdrav.yar.ru.
URL:https://miac.zdrav76.ru/event/%d1%81%d0%be%d0%b2%d0%b5%d1%89%d0%b0%d0%bd%d0%b8%d0%b5-%d0%b4%d0%b8%d1%80%d0%b5%d0%ba%d1%82%d0%be%d1%80%d0%b0-%d0%b4%d0%b7%d0%b8%d1%84-%d1%8f%d0%be-%d1%81-%d0%b3%d0%bb%d0%b0%d0%b2%d0%bd%d1%8b%d0%bc-3/
LOCATION:В режиме ВКС
CATEGORIES:ДЗиФ
END:VEVENT
BEGIN:VEVENT
DTSTART;TZID=Europe/Moscow:20220203T170000
DTEND;TZID=Europe/Moscow:20220203T183000
DTSTAMP:20260426T011639
CREATED:20220203T121558Z
LAST-MODIFIED:20220203T121558Z
UID:21384-1643907600-1643913000@miac.zdrav76.ru
SUMMARY:совещание Пиклун О.А.\, и.о.директора ДЗИФ ЯО\, с главными врачами МО
DESCRIPTION:✅ Тема: Поставка «тяжёлого» оборудования \n✅ Участники: \n1.онкологическая больница \n2.ГБ 3 \n3.ЦГБ \n4.Любимская ЦРБ \n5. Тутаевская ЦРБ \n6. Некрасовская ЦРБ \n✅ До начала трансляции обязательно проверьте настройки микрофона (в разделе видео и звук должны быть включены:  АРУ и эхоподавление). Техническая поддержка: (4852)20-54-09\, support@zdrav.yar.ru.
URL:https://miac.zdrav76.ru/event/%d1%81%d0%be%d0%b2%d0%b5%d1%89%d0%b0%d0%bd%d0%b8%d0%b5-%d0%bf%d0%b8%d0%ba%d0%bb%d1%83%d0%bd-%d0%be-%d0%b0-%d0%b8-%d0%be-%d0%b4%d0%b8%d1%80%d0%b5%d0%ba%d1%82%d0%be%d1%80%d0%b0-%d0%b4%d0%b7%d0%b8/
LOCATION:В режиме ВКС
CATEGORIES:ДЗиФ
END:VEVENT
BEGIN:VEVENT
DTSTART;TZID=Europe/Moscow:20220131T160000
DTEND;TZID=Europe/Moscow:20220131T180000
DTSTAMP:20260426T011639
CREATED:20220128T093030Z
LAST-MODIFIED:20220201T064957Z
UID:21317-1643644800-1643652000@miac.zdrav76.ru
SUMMARY:Тарифная комиссия
DESCRIPTION:Участники: ДЗИФ\, ТФОМС\, члены тарифной комиссии \n✅До начала трансляции обязательно проверьте настройки микрофона (в разделе видео и звук должны быть включены:  АРУ и эхоподавление). Техническая поддержка: (4852) 20-54-09\, support@zdrav.yar.ru
URL:https://miac.zdrav76.ru/event/%d1%82%d0%b0%d1%80%d0%b8%d1%84%d0%bd%d0%b0%d1%8f-%d0%ba%d0%be%d0%bc%d0%b8%d1%81%d1%81%d0%b8%d1%8f/
LOCATION:В режиме ВКС
CATEGORIES:ДЗиФ
END:VEVENT
BEGIN:VEVENT
DTSTART;TZID=Europe/Moscow:20220127T160000
DTEND;TZID=Europe/Moscow:20220127T180000
DTSTAMP:20260426T011639
CREATED:20220127T133532Z
LAST-MODIFIED:20220203T062503Z
UID:21288-1643299200-1643306400@miac.zdrav76.ru
SUMMARY:Директор ДЗиФ и Епархия ЯО
DESCRIPTION:Участники – Директор ДЗИФ (от себя)\, Епархия Ярославской области \nДо начала трансляции обязательно проверьте настройки микрофона (в разделе видео и звук должны быть включены:  АРУ и эхоподавление). Техническая поддержка: (4852) 20-54-09\, support@zdrav.yar.ru
URL:https://miac.zdrav76.ru/event/%d0%b4%d0%b8%d1%80%d0%b5%d0%ba%d1%82%d0%be%d1%80-%d0%b4%d0%b7%d0%b8%d1%84-%d0%b8-%d0%b5%d0%bf%d0%b0%d1%80%d1%85%d0%b8%d1%8f-%d1%8f%d0%be/
LOCATION:В режиме ВКС
CATEGORIES:ДЗиФ
END:VEVENT
BEGIN:VEVENT
DTSTART;TZID=Europe/Moscow:20220127T120000
DTEND;TZID=Europe/Moscow:20220127T133000
DTSTAMP:20260426T011639
CREATED:20220127T082305Z
LAST-MODIFIED:20220127T082305Z
UID:21280-1643284800-1643290200@miac.zdrav76.ru
SUMMARY:Текущие вопросы
DESCRIPTION:совещание Пиклун О.А.\, и.о.директора ДЗИФ ЯО\, с главными врачами МО \n✅ Участники: Все организации\, подведомственные ДЗИФ ЯО \n✅ До начала трансляции обязательно проверьте настройки микрофона (в разделе видео и звук должны быть включены:  АРУ и эхоподавление). Техническая поддержка: (4852)20-54-09\, support@zdrav.yar.ru.
URL:https://miac.zdrav76.ru/event/%d1%82%d0%b5%d0%ba%d1%83%d1%89%d0%b8%d0%b5-%d0%b2%d0%be%d0%bf%d1%80%d0%be%d1%81%d1%8b-2/
LOCATION:В режиме ВКС
CATEGORIES:ДЗиФ
END:VEVENT
BEGIN:VEVENT
DTSTART;TZID=Europe/Moscow:20220113T120000
DTEND;TZID=Europe/Moscow:20220113T140000
DTSTAMP:20260426T011639
CREATED:20220113T064931Z
LAST-MODIFIED:20220113T064931Z
UID:21151-1642075200-1642082400@miac.zdrav76.ru
SUMMARY:Демография. Текущие вопросы
DESCRIPTION:Участники: Белякова\, Хорев\, ЭР\, Маленко\, разработчики \n✅До начала трансляции обязательно проверьте настройки микрофона (в разделе видео и звук должны быть включены:  АРУ и эхоподавление). Техническая поддержка: (4852) 20-54-09\, support@zdrav.yar.ru
URL:https://miac.zdrav76.ru/event/%d0%b4%d0%b5%d0%bc%d0%be%d0%b3%d1%80%d0%b0%d1%84%d0%b8%d1%8f-%d1%82%d0%b5%d0%ba%d1%83%d1%89%d0%b8%d0%b5-%d0%b2%d0%be%d0%bf%d1%80%d0%be%d1%81%d1%8b-6/
LOCATION:В режиме ВКС
CATEGORIES:ДЗиФ
END:VEVENT
BEGIN:VEVENT
DTSTART;TZID=Europe/Moscow:20220113T103000
DTEND;TZID=Europe/Moscow:20220113T120000
DTSTAMP:20260426T011639
CREATED:20220113T064513Z
LAST-MODIFIED:20220113T064513Z
UID:21149-1642069800-1642075200@miac.zdrav76.ru
SUMMARY:Противодействие коррупции
DESCRIPTION:Совещание Пиклун О.А.\, и.о.директора ДЗИФ ЯО\, с главными врачами МО \n✅ Участники: Все организации\, подведомственные ДЗИФ ЯО \n✅До начала трансляции обязательно проверьте настройки микрофона (в разделе видео и звук должны быть включены:  АРУ и эхоподавление). Техническая поддержка: (4852) 20-54-09\, support@zdrav.yar.ru
URL:https://miac.zdrav76.ru/event/%d0%bf%d1%80%d0%be%d1%82%d0%b8%d0%b2%d0%be%d0%b4%d0%b5%d0%b9%d1%81%d1%82%d0%b2%d0%b8%d0%b5-%d0%ba%d0%be%d1%80%d1%80%d1%83%d0%bf%d1%86%d0%b8%d0%b8/
LOCATION:В режиме ВКС
CATEGORIES:ДЗиФ
END:VEVENT
BEGIN:VEVENT
DTSTART;TZID=Europe/Moscow:20220111T100000
DTEND;TZID=Europe/Moscow:20220111T120000
DTSTAMP:20260426T011639
CREATED:20220110T102127Z
LAST-MODIFIED:20220110T102748Z
UID:21120-1641895200-1641902400@miac.zdrav76.ru
SUMMARY:ЛЬГОТНОЕ ЛЕКАРСТВЕННОЕ ОБЕСПЕЧЕНИЕ
DESCRIPTION:ВКС С РУКОВОДИТЕЛЯМИ МО \n✅ Участники: МО\, УЧАСТВУЮЩИЕ В ЛЛО. \n✅До начала трансляции обязательно проверьте настройки микрофона (в разделе видео и звук должны быть включены:  АРУ и эхоподавление). Техническая поддержка: (4852) 20-54-09\, support@zdrav.yar.ru
URL:https://miac.zdrav76.ru/event/%d0%bb%d1%8c%d0%b3%d0%be%d1%82%d0%bd%d0%be%d0%b5-%d0%bb%d0%b5%d0%ba%d0%b0%d1%80%d1%81%d1%82%d0%b2%d0%b5%d0%bd%d0%bd%d0%be%d0%b5-%d0%be%d0%b1%d0%b5%d1%81%d0%bf%d0%b5%d1%87%d0%b5%d0%bd%d0%b8%d0%b5-2/
LOCATION:В режиме ВКС
CATEGORIES:ДЗиФ
END:VEVENT
BEGIN:VEVENT
DTSTART;TZID=Europe/Moscow:20211210T100000
DTEND;TZID=Europe/Moscow:20211210T113000
DTSTAMP:20260426T011639
CREATED:20211209T123702Z
LAST-MODIFIED:20211209T123702Z
UID:20709-1639130400-1639135800@miac.zdrav76.ru
SUMMARY:ВИМИС. приемо-сдаточные
DESCRIPTION:Участники: Белякова\, Маленко\, Хорев\, ЭР\, Самара \nДо начала трансляции обязательно проверьте настройки микрофона (в разделе видео и звук должны быть включены:  АРУ и эхоподавление). Техническая поддержка: (4852) 20-54-09\, support@zdrav.yar.ru
URL:https://miac.zdrav76.ru/event/%d0%b2%d0%b8%d0%bc%d0%b8%d1%81-%d0%bf%d1%80%d0%b8%d0%b5%d0%bc%d0%be-%d1%81%d0%b4%d0%b0%d1%82%d0%be%d1%87%d0%bd%d1%8b%d0%b5/
LOCATION:В режиме ВКС
CATEGORIES:ДЗиФ
END:VEVENT
BEGIN:VEVENT
DTSTART;TZID=Europe/Moscow:20211209T150000
DTEND;TZID=Europe/Moscow:20211209T170000
DTSTAMP:20260426T011639
CREATED:20211209T104031Z
LAST-MODIFIED:20220201T065813Z
UID:20705-1639062000-1639069200@miac.zdrav76.ru
SUMMARY:ВИМИС
DESCRIPTION:Участники – Белякова\, Хорев\, ЭР\, Маленко\, «ЦОЗ и МП»\, Самара \nДо начала трансляции обязательно проверьте настройки микрофона (в разделе видео и звук должны быть включены:  АРУ и эхоподавление). Техническая поддержка: (4852) 20-54-09\, support@zdrav.yar.ru
URL:https://miac.zdrav76.ru/event/%d0%b2%d0%b8%d0%bc%d0%b8%d1%81-2/
LOCATION:В режиме ВКС
CATEGORIES:ДЗиФ
END:VEVENT
BEGIN:VEVENT
DTSTART;TZID=Europe/Moscow:20211208T130000
DTEND;TZID=Europe/Moscow:20211208T143000
DTSTAMP:20260426T011639
CREATED:20211208T083012Z
LAST-MODIFIED:20211208T083012Z
UID:20687-1638968400-1638973800@miac.zdrav76.ru
SUMMARY:ОРГ вопросы
DESCRIPTION:Участники: Белякова\, Маленко\, Хорев\, ЭР\, Роман Плисс \n✅ До начала трансляции обязательно проверьте настройки микрофона (в разделе видео и звук должны быть включены:  АРУ и эхоподавление). Техническая поддержка: (4852)20-54-09\, support@zdrav.yar.ru.
URL:https://miac.zdrav76.ru/event/%d0%be%d1%80%d0%b3-%d0%b2%d0%be%d0%bf%d1%80%d0%be%d1%81%d1%8b-3/
LOCATION:В режиме ВКС
CATEGORIES:ДЗиФ
END:VEVENT
BEGIN:VEVENT
DTSTART;TZID=Europe/Moscow:20211208T130000
DTEND;TZID=Europe/Moscow:20211208T143000
DTSTAMP:20260426T011639
CREATED:20211206T123836Z
LAST-MODIFIED:20211206T130657Z
UID:20648-1638968400-1638973800@miac.zdrav76.ru
SUMMARY:Профилактика суицидального поведения у подростков
DESCRIPTION:Повестка\n1. Профилактика суицидального поведения у подростков.\nГлавный внештатный детский психиатр области Симановская И.Э.\n2. Депрессия\, как одна из причин суицидального поведения у детей и подростков.\nВрач психиатр ГБКУЗ ЯО ЯОПБ Орлова Н.В.\n3. Как распознать подростка с суицидальными наклонностями.\nСедова О.В психолог ГБКУЗ ЯО ЯОПБ \n4. Разное (выполнение показателей регионального проекта\, диспансеризации детей-сирот\, профилактических осмотров несовершеннолетних\, работа с заявками Фонда «Круг добра»). \nПриглашаются для участия заместители руководителей по детству\, заведующие детскими поликлиниками\, районные педиатры\, педиатры\, районные психиатры.\nСсылка на подключение будет направлена ГБУЗ ЯО «Областной центр общественного здоровья и медицинской профилактики». \n✅До начала трансляции обязательно проверьте настройки микрофона (в разделе видео и звук должны быть включены:  АРУ и эхоподавление). Техническая поддержка: (4852) 20-54-09\, support@zdrav.yar.ru \n 
URL:https://miac.zdrav76.ru/event/%d0%bf%d1%80%d0%be%d1%84%d0%b8%d0%bb%d0%b0%d0%ba%d1%82%d0%b8%d0%ba%d0%b0-%d1%81%d1%83%d0%b8%d1%86%d0%b8%d0%b4%d0%b0%d0%bb%d1%8c%d0%bd%d0%be%d0%b3%d0%be-%d0%bf%d0%be%d0%b2%d0%b5%d0%b4%d0%b5%d0%bd%d0%b8/
LOCATION:В режиме ВКС
CATEGORIES:ДЗиФ
END:VEVENT
BEGIN:VEVENT
DTSTART;TZID=Europe/Moscow:20211208T120000
DTEND;TZID=Europe/Moscow:20211208T133000
DTSTAMP:20260426T011639
CREATED:20211208T064559Z
LAST-MODIFIED:20211208T082219Z
UID:20677-1638964800-1638970200@miac.zdrav76.ru
SUMMARY:Совещание и.о. директора ДЗИФ ЯО\, с главными врачами МО
DESCRIPTION:✅ Тема: \n1. Вакцинация \n2.  Тестирование                                                                 3. Информация ТФОМС \n✅ Участники: МО\, работающие в системе ОМС \n✅ До начала трансляции обязательно проверьте настройки микрофона (в разделе видео и звук должны быть включены:  АРУ и эхоподавление). Техническая поддержка: (4852)20-54-09\, support@zdrav.yar.ru.
URL:https://miac.zdrav76.ru/event/%d1%81%d0%be%d0%b2%d0%b5%d1%89%d0%b0%d0%bd%d0%b8%d0%b5-%d0%b8-%d0%be-%d0%b4%d0%b8%d1%80%d0%b5%d0%ba%d1%82%d0%be%d1%80%d0%b0-%d0%b4%d0%b7%d0%b8%d1%84-%d1%8f%d0%be-%d1%81-%d0%b3%d0%bb%d0%b0%d0%b2-2/
LOCATION:В режиме ВКС
CATEGORIES:ДЗиФ
END:VEVENT
BEGIN:VEVENT
DTSTART;TZID=Europe/Moscow:20211208T093000
DTEND;TZID=Europe/Moscow:20211208T110000
DTSTAMP:20260426T011639
CREATED:20211208T064940Z
LAST-MODIFIED:20211208T064940Z
UID:20679-1638955800-1638961200@miac.zdrav76.ru
SUMMARY:ОРГ вопросы
DESCRIPTION:Участники: Белякова\, Маленко\, Хорев\, ЭР \n✅До начала трансляции обязательно проверьте настройки микрофона (в разделе видео и звук должны быть включены:  АРУ и эхоподавление). Техническая поддержка: (4852) 20-54-09\, support@zdrav.yar.ru
URL:https://miac.zdrav76.ru/event/%d0%be%d1%80%d0%b3-%d0%b2%d0%be%d0%bf%d1%80%d0%be%d1%81%d1%8b-2/
LOCATION:В режиме ВКС
CATEGORIES:ДЗиФ
END:VEVENT
BEGIN:VEVENT
DTSTART;TZID=Europe/Moscow:20211207T140000
DTEND;TZID=Europe/Moscow:20211207T163000
DTSTAMP:20260426T011639
CREATED:20211206T122106Z
LAST-MODIFIED:20220201T070656Z
UID:20642-1638885600-1638894600@miac.zdrav76.ru
SUMMARY:ЛИС АЛТЕЙ . Обучение
DESCRIPTION:Участники: Белякова\, Маленко\, Хорев\, ЭР\, Представители Алтея;МО: \nГБУЗ ЯО «Областная клиническая больница» \nГБУЗ ЯО «Областная детская клиническая больница» \nГБУЗ ЯО «Клиническая онкологическая больница» \nГБУЗ ЯО «Клиническая больница № 2» \nГУЗ ЯО «Угличская ЦРБ» \nГБУЗ ЯО «Тутаевская ЦРБ» \nГБУЗ ЯО «Переславская ЦРБ» \n✅ До начала трансляции обязательно проверьте настройки микрофона (в разделе видео и звук должны быть включены:  АРУ и эхоподавление). Техническая поддержка: (4852)20-54-09\, support@zdrav.yar.ru.
URL:https://miac.zdrav76.ru/event/%d0%bb%d0%b8%d1%81-%d0%b0%d0%bb%d1%82%d0%b5%d0%b9-%d0%be%d0%b1%d1%83%d1%87%d0%b5%d0%bd%d0%b8%d0%b5/
LOCATION:В режиме ВКС
CATEGORIES:ДЗиФ
END:VEVENT
BEGIN:VEVENT
DTSTART;TZID=Europe/Moscow:20211207T110000
DTEND;TZID=Europe/Moscow:20211207T123000
DTSTAMP:20260426T011639
CREATED:20211207T074534Z
LAST-MODIFIED:20211207T082527Z
UID:20661-1638874800-1638880200@miac.zdrav76.ru
SUMMARY:Совещание и.о. директора ДЗИФ ЯО\, с главными врачами МО
DESCRIPTION:✅ Тема: Организационные вопросы \n✅ Участники: \n1. ГБУЗ ЯО «Клиническая больница № 2» \n2. ГБУЗ ЯО «Инфекционная клиническая больница» \n3. ГБУЗ ЯО «Городская больница №2 им. Н.И. Пирогова» \n4. ГУЗ ЯО «Гаврилов-Ямская ЦРБ» \n5. ГБУЗ ЯО «Любимская ЦРБ» \n6. ГБУЗ ЯО «Некрасовская ЦРБ» \n7. ГБУЗ ЯО «Переславская ЦРБ» \n8. ГУЗ ЯО «Пошехонская ЦРБ» \n9. ГБУЗ ЯО Ростовская ЦРБ \n10. ГБУЗ ЯО «Тутаевская ЦРБ» \n11. ГУЗ ЯО «Угличская ЦРБ» \n12. ГБУЗ ЯО «Клиническая больница имени Н.А. Семашко» \n13. ГБУЗ ЯО «ЯОКГВВ-МЦ «Здоровое долголетие» \n14. ГУЗ ЯО «Городская больница №3» \n15. ГУЗ ЯО Ярославская ЦРБ \n16. ГАУЗ ЯО «Клиническая больница № 9» \n17. ГБУЗ ЯО «Рыбинская городская больница № 1» \n18. ГУЗ ЯО городская больница № 4 г. Рыбинск \n19. ГБУЗ ЯО Даниловская ЦРБ \n20. ГБУЗ ЯО «Борисоглебская центральная районная больница» \n21. ГУЗ ЯО Большесельская ЦРБ \n22. ГУЗ ЯО «ЦРБ им. Д.Л.Соколова» \n23. ГУЗ ЯО Некоузская ЦРБ \n24. ГБУЗ ЯО «Пречистенская ЦРБ» \n25. ГБУЗ ЯО «Клиническая больница №3» \n26. ГБКУЗ ЯО «Ярославская областная психиатрическая больница» \n27. ГБКУЗ ЯО «Центральная городская больница» \n28. СМП Ярославль \n29. СМП Рыбинск \n✅До начала трансляции обязательно проверьте настройки микрофона (в разделе видео и звук должны быть включены:  АРУ и эхоподавление). Техническая поддержка: (4852) 20-54-09\, support@zdrav.yar.ru
URL:https://miac.zdrav76.ru/event/%d1%81%d0%be%d0%b2%d0%b5%d1%89%d0%b0%d0%bd%d0%b8%d0%b5-%d0%b8-%d0%be-%d0%b4%d0%b8%d1%80%d0%b5%d0%ba%d1%82%d0%be%d1%80%d0%b0-%d0%b4%d0%b7%d0%b8%d1%84-%d1%8f%d0%be-%d1%81-%d0%b3%d0%bb%d0%b0%d0%b2/
LOCATION:В режиме ВКС
CATEGORIES:ДЗиФ
END:VEVENT
BEGIN:VEVENT
DTSTART;TZID=Europe/Moscow:20211206T140000
DTEND;TZID=Europe/Moscow:20211206T163000
DTSTAMP:20260426T011639
CREATED:20211206T060702Z
LAST-MODIFIED:20220201T070929Z
UID:20624-1638799200-1638808200@miac.zdrav76.ru
SUMMARY:ЛИС АЛТЕЙ . Приемо-сдаточные
DESCRIPTION:Участники: Белякова\, Маленко\, Хорев\, ЭР\, Представители Алтея; \nМО: \nГБУЗ ЯО «Областная клиническая больница» \nГБУЗ ЯО «Областная детская клиническая больница» \nГБУЗ ЯО «Клиническая онкологическая больница» \nГБУЗ ЯО «Клиническая больница № 2» \nГУЗ ЯО «Угличская ЦРБ» \nГБУЗ ЯО «Тутаевская ЦРБ» \nГБУЗ ЯО «Переславская ЦРБ» \n✅ До начала трансляции обязательно проверьте настройки микрофона (в разделе видео и звук должны быть включены:  АРУ и эхоподавление). Техническая поддержка: (4852)20-54-09\, support@zdrav.yar.ru.
URL:https://miac.zdrav76.ru/event/%d0%bb%d0%b8%d1%81-%d0%b0%d0%bb%d1%82%d0%b5%d0%b9-%d0%bf%d1%80%d0%b8%d0%b5%d0%bc%d0%be-%d1%81%d0%b4%d0%b0%d1%82%d0%be%d1%87%d0%bd%d1%8b%d0%b5/
LOCATION:В режиме ВКС
CATEGORIES:ДЗиФ
END:VEVENT
BEGIN:VEVENT
DTSTART;TZID=Europe/Moscow:20211202T160000
DTEND;TZID=Europe/Moscow:20211202T180000
DTSTAMP:20260426T011639
CREATED:20211202T102826Z
LAST-MODIFIED:20220201T071241Z
UID:20575-1638460800-1638468000@miac.zdrav76.ru
SUMMARY:совещание под председательством и.о.директора ДЗИФ ЯО с главными врачами МО
DESCRIPTION:✅ Тема: \n1. Вакцинация \n2.  Тестирование \n✅ Участники: МО\, оказывающие первичную медико-санитарную помощь + Облфарм + ИКБ + Кожвен \n✅ До начала трансляции обязательно проверьте настройки микрофона (в разделе видео и звук должны быть включены:  АРУ и эхоподавление). Техническая поддержка: (4852)20-54-09\, support@zdrav.yar.ru.
URL:https://miac.zdrav76.ru/event/%d1%81%d0%be%d0%b2%d0%b5%d1%89%d0%b0%d0%bd%d0%b8%d0%b5-%d0%bf%d0%be%d0%b4-%d0%bf%d1%80%d0%b5%d0%b4%d1%81%d0%b5%d0%b4%d0%b0%d1%82%d0%b5%d0%bb%d1%8c%d1%81%d1%82%d0%b2%d0%be%d0%bc-%d0%b8-%d0%be-%d0%b4/
LOCATION:В режиме ВКС
CATEGORIES:ДЗиФ
END:VEVENT
END:VCALENDAR