BEGIN:VCALENDAR
VERSION:2.0
PRODID:-//ГБУЗ ЯО &quot;Медицинский информационно-аналитический центр&quot; - ECPv6.15.17.1//NONSGML v1.0//EN
CALSCALE:GREGORIAN
METHOD:PUBLISH
X-WR-CALNAME:ГБУЗ ЯО &quot;Медицинский информационно-аналитический центр&quot;
X-ORIGINAL-URL:https://miac.zdrav76.ru
X-WR-CALDESC:Мероприятия для ГБУЗ ЯО &quot;Медицинский информационно-аналитический центр&quot;
REFRESH-INTERVAL;VALUE=DURATION:PT1H
X-Robots-Tag:noindex
X-PUBLISHED-TTL:PT1H
BEGIN:VTIMEZONE
TZID:Europe/Moscow
BEGIN:STANDARD
TZOFFSETFROM:+0300
TZOFFSETTO:+0300
TZNAME:MSK
DTSTART:20190101T000000
END:STANDARD
END:VTIMEZONE
BEGIN:VEVENT
DTSTART;TZID=Europe/Moscow:20200722T103000
DTEND;TZID=Europe/Moscow:20200722T113000
DTSTAMP:20260424T151215
CREATED:20200721T133114Z
LAST-MODIFIED:20200806T080934Z
UID:13783-1595413800-1595417400@miac.zdrav76.ru
SUMMARY:Безопасное лето
DESCRIPTION:Спикер : Яковлев С.В.\nСсылка на youtube: https://youtu.be/oBDeHlxCfRU
URL:https://miac.zdrav76.ru/event/%d0%b1%d0%b5%d0%b7%d0%be%d0%bf%d0%b0%d1%81%d0%bd%d0%be%d0%b5-%d0%bb%d0%b5%d1%82%d0%be/
LOCATION:В режиме ВКС
CATEGORIES:Академия 60+
END:VEVENT
BEGIN:VEVENT
DTSTART;TZID=Europe/Moscow:20200722T090000
DTEND;TZID=Europe/Moscow:20200722T103000
DTSTAMP:20260424T151215
CREATED:20200721T132525Z
LAST-MODIFIED:20200806T080934Z
UID:13778-1595408400-1595413800@miac.zdrav76.ru
SUMMARY:Факторы риска сахарного диабета 2 типа
DESCRIPTION:Спикер: Белоусова М.А.\nСсылка на youtube: https://youtu.be/AhbqhsmrYig
URL:https://miac.zdrav76.ru/event/%d1%84%d0%b0%d0%ba%d1%82%d0%be%d1%80%d1%8b-%d1%80%d0%b8%d1%81%d0%ba%d0%b0-%d1%81%d0%b0%d1%85%d0%b0%d1%80%d0%bd%d0%be%d0%b3%d0%be-%d0%b4%d0%b8%d0%b0%d0%b1%d0%b5%d1%82%d0%b0-2-%d1%82%d0%b8%d0%bf%d0%b0/
LOCATION:В режиме ВКС
CATEGORIES:Академия 60+
END:VEVENT
BEGIN:VEVENT
DTSTART;TZID=Europe/Moscow:20200717T090000
DTEND;TZID=Europe/Moscow:20200717T110000
DTSTAMP:20260424T151215
CREATED:20200716T114658Z
LAST-MODIFIED:20200806T080934Z
UID:13760-1594976400-1594983600@miac.zdrav76.ru
SUMMARY:Что нужно знать об артериальной гипертензии
DESCRIPTION:Спикер : Белоусова М.А. \nYouTube: https://youtu.be/xYUMa959rCs
URL:https://miac.zdrav76.ru/event/%d1%87%d1%82%d0%be-%d0%bd%d1%83%d0%b6%d0%bd%d0%be-%d0%b7%d0%bd%d0%b0%d1%82%d1%8c-%d0%be%d0%b1-%d0%b0%d1%80%d1%82%d0%b5%d1%80%d0%b8%d0%b0%d0%bb%d1%8c%d0%bd%d0%be%d0%b9-%d0%b3%d0%b8%d0%bf%d0%b5%d1%80/
LOCATION:В режиме ВКС
CATEGORIES:Академия 60+
END:VEVENT
BEGIN:VEVENT
DTSTART;TZID=Europe/Moscow:20200715T083000
DTEND;TZID=Europe/Moscow:20200715T103000
DTSTAMP:20260424T151215
CREATED:20200714T084918Z
LAST-MODIFIED:20200806T080934Z
UID:13746-1594801800-1594809000@miac.zdrav76.ru
SUMMARY:Ожирение - эпидемия XXI века
DESCRIPTION:Спикер: Катилов Л.А. \nСсылка на YouTube: https://youtu.be/h9lwX77wTwc
URL:https://miac.zdrav76.ru/event/%d0%be%d0%b6%d0%b8%d1%80%d0%b5%d0%bd%d0%b8%d0%b5-%d1%8d%d0%bf%d0%b8%d0%b4%d0%b5%d0%bc%d0%b8%d1%8f-xxi-%d0%b2%d0%b5%d0%ba%d0%b0/
CATEGORIES:Академия 60+
END:VEVENT
BEGIN:VEVENT
DTSTART;TZID=Europe/Moscow:20200714T090000
DTEND;TZID=Europe/Moscow:20200714T100000
DTSTAMP:20260424T151215
CREATED:20200713T080704Z
LAST-MODIFIED:20200806T080934Z
UID:13743-1594717200-1594720800@miac.zdrav76.ru
SUMMARY:Профилактика инсульта
DESCRIPTION:Спикер : Белоусова М.А. \nСсылка на Youtube :  https://youtu.be/QjW4WFVO7jI \n 
URL:https://miac.zdrav76.ru/event/%d0%bf%d1%80%d0%be%d1%84%d0%b8%d0%bb%d0%b0%d0%ba%d1%82%d0%b8%d0%ba%d0%b0-%d0%b8%d0%bd%d1%81%d1%83%d0%bb%d1%8c%d1%82%d0%b0/
LOCATION:В режиме ВКС
CATEGORIES:Академия 60+
END:VEVENT
BEGIN:VEVENT
DTSTART;TZID=Europe/Moscow:20200707T083000
DTEND;TZID=Europe/Moscow:20200707T100000
DTSTAMP:20260424T151215
CREATED:20200707T054825Z
LAST-MODIFIED:20200806T080934Z
UID:13700-1594110600-1594116000@miac.zdrav76.ru
SUMMARY:Здоровое питание
DESCRIPTION:Спикер: Катилов Л.А. \nСсылка на YouTube:  https://www.youtube.com/watch?v=x8HthimEypg&feature=youtu.be
URL:https://miac.zdrav76.ru/event/%d0%b7%d0%b4%d0%be%d1%80%d0%be%d0%b2%d0%be%d0%b5-%d0%bf%d0%b8%d1%82%d0%b0%d0%bd%d0%b8%d0%b5/
LOCATION:В режиме ВКС
CATEGORIES:Академия 60+
END:VEVENT
BEGIN:VEVENT
DTSTART;TZID=Europe/Moscow:20200706T083000
DTEND;TZID=Europe/Moscow:20200706T100000
DTSTAMP:20260424T151215
CREATED:20200703T103912Z
LAST-MODIFIED:20200806T080934Z
UID:13676-1594024200-1594029600@miac.zdrav76.ru
SUMMARY:Питание в пожилом возрасте
DESCRIPTION:Ведущий: Белоусова Марина Александровна \nСсылка на YouTube: https://youtu.be/cT9nAGsVgbo
URL:https://miac.zdrav76.ru/event/%d0%bf%d0%b8%d1%82%d0%b0%d0%bd%d0%b8%d0%b5-%d0%b2-%d0%bf%d0%be%d0%b6%d0%b8%d0%bb%d0%be%d0%bc-%d0%b2%d0%be%d0%b7%d1%80%d0%b0%d1%81%d1%82%d0%b5/
CATEGORIES:Академия 60+
END:VEVENT
BEGIN:VEVENT
DTSTART;TZID=Europe/Moscow:20200605T083000
DTEND;TZID=Europe/Moscow:20200605T103000
DTSTAMP:20260424T151215
CREATED:20200604T134330Z
LAST-MODIFIED:20200806T080934Z
UID:13550-1591345800-1591353000@miac.zdrav76.ru
SUMMARY:Особенности течения хронических заболеваний легких в период пандемии КОВИД-19
DESCRIPTION:Спикер : Белоусова Марина Александровна \n\nСсылка на YouTube: https://youtu.be/MeAnVySTRR4
URL:https://miac.zdrav76.ru/event/%d0%be%d1%81%d0%be%d0%b1%d0%b5%d0%bd%d0%bd%d0%be%d1%81%d1%82%d0%b8-%d1%82%d0%b5%d1%87%d0%b5%d0%bd%d0%b8%d1%8f-%d1%85%d1%80%d0%be%d0%bd%d0%b8%d1%87%d0%b5%d1%81%d0%ba%d0%b8%d1%85-%d0%b7%d0%b0%d0%b1/
LOCATION:В режиме ВКС
CATEGORIES:Академия 60+
END:VEVENT
BEGIN:VEVENT
DTSTART;TZID=Europe/Moscow:20200601T093000
DTEND;TZID=Europe/Moscow:20200601T110000
DTSTAMP:20260424T151215
CREATED:20200601T061230Z
LAST-MODIFIED:20200806T080934Z
UID:13519-1591003800-1591009200@miac.zdrav76.ru
SUMMARY:Активное долголетие
DESCRIPTION:Спикер : Белоусова Марина Александровна \nСсылка на YouTube: https://youtu.be/7tpEjwzbJDg \n 
URL:https://miac.zdrav76.ru/event/%d0%b0%d0%ba%d1%82%d0%b8%d0%b2%d0%bd%d0%be%d0%b5-%d0%b4%d0%be%d0%bb%d0%b3%d0%be%d0%bb%d0%b5%d1%82%d0%b8%d0%b5/
LOCATION:В режиме ВКС
CATEGORIES:Академия 60+
END:VEVENT
BEGIN:VEVENT
DTSTART;TZID=Europe/Moscow:20200529T093000
DTEND;TZID=Europe/Moscow:20200529T103000
DTSTAMP:20260424T151215
CREATED:20200529T062025Z
LAST-MODIFIED:20200806T080933Z
UID:13482-1590744600-1590748200@miac.zdrav76.ru
SUMMARY:Пассивное курение
DESCRIPTION:Спикер: Белоусова Марина Александровна \nСсылка на YouTube:  https://youtu.be/0OT1hHkm9As
URL:https://miac.zdrav76.ru/event/%d0%bf%d0%b0%d1%81%d1%81%d0%b8%d0%b2%d0%bd%d0%be%d0%b5-%d0%ba%d1%83%d1%80%d0%b5%d0%bd%d0%b8%d0%b5/
CATEGORIES:Академия 60+
END:VEVENT
BEGIN:VEVENT
DTSTART;TZID=Europe/Moscow:20200528T100000
DTEND;TZID=Europe/Moscow:20200528T133000
DTSTAMP:20260424T151215
CREATED:20200528T064332Z
LAST-MODIFIED:20200806T080933Z
UID:13458-1590660000-1590672600@miac.zdrav76.ru
SUMMARY:Физическая активность лиц старшего возраста в период пандемии COVID-19
DESCRIPTION:Спикер: Белоусова Марина Александровна \nСсылка на YouTube:  https://youtu.be/uDGpuU30gmE
URL:https://miac.zdrav76.ru/event/%d1%84%d0%b8%d0%b7%d0%b8%d1%87%d0%b5%d1%81%d0%ba%d0%b0%d1%8f-%d0%b0%d0%ba%d1%82%d0%b8%d0%b2%d0%bd%d0%be%d1%81%d1%82%d1%8c-%d0%bb%d0%b8%d1%86-%d1%81%d1%82%d0%b0%d1%80%d1%88%d0%b5%d0%b3%d0%be-%d0%b2/
CATEGORIES:Академия 60+
END:VEVENT
BEGIN:VEVENT
DTSTART;TZID=Europe/Moscow:20200526T110000
DTEND;TZID=Europe/Moscow:20200526T123000
DTSTAMP:20260424T151215
CREATED:20200528T073616Z
LAST-MODIFIED:20200806T080933Z
UID:13461-1590490800-1590496200@miac.zdrav76.ru
SUMMARY:Программа отказа от курения. Школа для пациентов
DESCRIPTION:Спикер: Яковлев Сергей Валентинович\nСсылка на YouTube:  https://www.youtube.com/watch?v=G_a3ySsw0bE
URL:https://miac.zdrav76.ru/event/%d0%bf%d1%80%d0%be%d0%b3%d1%80%d0%b0%d0%bc%d0%bc%d0%b0-%d0%be%d1%82%d0%ba%d0%b0%d0%b7%d0%b0-%d0%be%d1%82-%d0%ba%d1%83%d1%80%d0%b5%d0%bd%d0%b8%d1%8f-%d1%88%d0%ba%d0%be%d0%bb%d0%b0-%d0%b4%d0%bb%d1%8f/
CATEGORIES:Академия 60+
END:VEVENT
BEGIN:VEVENT
DTSTART;TZID=Europe/Moscow:20200424T133000
DTEND;TZID=Europe/Moscow:20200424T143000
DTSTAMP:20260424T151215
CREATED:20200422T105321Z
LAST-MODIFIED:20200806T080933Z
UID:13144-1587735000-1587738600@miac.zdrav76.ru
SUMMARY:Школа здоровья для пациентов «Академия здоровья 60+»
DESCRIPTION:Школа здоровья для пациентов «Академия здоровья 60+» \nНачало 13.30 окончание 14.30 \nСпикер Врач по медицинской профилактике Катилов Леонид Анатольевич
URL:https://miac.zdrav76.ru/event/%d1%88%d0%ba%d0%be%d0%bb%d0%b0-%d0%b7%d0%b4%d0%be%d1%80%d0%be%d0%b2%d1%8c%d1%8f-%d0%b4%d0%bb%d1%8f-%d0%bf%d0%b0%d1%86%d0%b8%d0%b5%d0%bd%d1%82%d0%be%d0%b2-%d0%b0%d0%ba%d0%b0%d0%b4%d0%b5%d0%bc/
CATEGORIES:Академия 60+
END:VEVENT
END:VCALENDAR